BEGIN:VCALENDAR
VERSION:2.0
PRODID:-//Walker Wayland Australasia - ECPv6.15.20//NONSGML v1.0//EN
CALSCALE:GREGORIAN
METHOD:PUBLISH
X-ORIGINAL-URL:https://walkerwayland.com
X-WR-CALDESC:Events for Walker Wayland Australasia
REFRESH-INTERVAL;VALUE=DURATION:PT1H
X-Robots-Tag:noindex
X-PUBLISHED-TTL:PT1H
BEGIN:VTIMEZONE
TZID:Australia/Brisbane
BEGIN:STANDARD
TZOFFSETFROM:+1000
TZOFFSETTO:+1000
TZNAME:AEST
DTSTART:20230101T000000
END:STANDARD
END:VTIMEZONE
BEGIN:VEVENT
DTSTART;TZID=Australia/Brisbane:20240816T090000
DTEND;TZID=Australia/Brisbane:20240816T153000
DTSTAMP:20260421T210229
CREATED:20240722T021731Z
LAST-MODIFIED:20240802T071542Z
UID:10000001-1723798800-1723822200@walkerwayland.com
SUMMARY:WWA Collaboration Think Tank
DESCRIPTION:Join the Partners and the senior members of our firms to share knowledge and discuss ideas\, including quarterly Benchmarking. 
URL:https://walkerwayland.com/event/wwa-collaboration-think-tank-aug-24/
LOCATION:Sofitel Brisbane\, 249 Turbot St\, Brisbane City\, QLD\, 4000\, Australia
CATEGORIES:WWA Collaboration Think Tank
ATTACH;FMTTYPE=image/png:https://walkerwayland.com/wp-content/uploads/2024/07/WW_Event_Brisbane.png
END:VEVENT
END:VCALENDAR