BEGIN:VCALENDAR
VERSION:2.0
PRODID:-//Walker Wayland Australasia - ECPv6.15.20//NONSGML v1.0//EN
CALSCALE:GREGORIAN
METHOD:PUBLISH
X-WR-CALNAME:Walker Wayland Australasia
X-ORIGINAL-URL:https://walkerwayland.com
X-WR-CALDESC:Events for Walker Wayland Australasia
REFRESH-INTERVAL;VALUE=DURATION:PT1H
X-Robots-Tag:noindex
X-PUBLISHED-TTL:PT1H
BEGIN:VTIMEZONE
TZID:Australia/Sydney
BEGIN:STANDARD
TZOFFSETFROM:+1100
TZOFFSETTO:+1000
TZNAME:AEST
DTSTART:20250405T160000
END:STANDARD
BEGIN:DAYLIGHT
TZOFFSETFROM:+1000
TZOFFSETTO:+1100
TZNAME:AEDT
DTSTART:20251004T160000
END:DAYLIGHT
BEGIN:STANDARD
TZOFFSETFROM:+1100
TZOFFSETTO:+1000
TZNAME:AEST
DTSTART:20260404T160000
END:STANDARD
BEGIN:DAYLIGHT
TZOFFSETFROM:+1000
TZOFFSETTO:+1100
TZNAME:AEDT
DTSTART:20261003T160000
END:DAYLIGHT
BEGIN:STANDARD
TZOFFSETFROM:+1100
TZOFFSETTO:+1000
TZNAME:AEST
DTSTART:20270403T160000
END:STANDARD
BEGIN:DAYLIGHT
TZOFFSETFROM:+1000
TZOFFSETTO:+1100
TZNAME:AEDT
DTSTART:20271002T160000
END:DAYLIGHT
BEGIN:STANDARD
TZOFFSETFROM:+1100
TZOFFSETTO:+1000
TZNAME:AEST
DTSTART:20280401T160000
END:STANDARD
BEGIN:DAYLIGHT
TZOFFSETFROM:+1000
TZOFFSETTO:+1100
TZNAME:AEDT
DTSTART:20280930T160000
END:DAYLIGHT
BEGIN:STANDARD
TZOFFSETFROM:+1100
TZOFFSETTO:+1000
TZNAME:AEST
DTSTART:20290331T160000
END:STANDARD
BEGIN:DAYLIGHT
TZOFFSETFROM:+1000
TZOFFSETTO:+1100
TZNAME:AEDT
DTSTART:20291006T160000
END:DAYLIGHT
BEGIN:STANDARD
TZOFFSETFROM:+1100
TZOFFSETTO:+1000
TZNAME:AEST
DTSTART:20300406T160000
END:STANDARD
BEGIN:DAYLIGHT
TZOFFSETFROM:+1000
TZOFFSETTO:+1100
TZNAME:AEDT
DTSTART:20301005T160000
END:DAYLIGHT
BEGIN:STANDARD
TZOFFSETFROM:+1100
TZOFFSETTO:+1000
TZNAME:AEST
DTSTART:20310405T160000
END:STANDARD
BEGIN:DAYLIGHT
TZOFFSETFROM:+1000
TZOFFSETTO:+1100
TZNAME:AEDT
DTSTART:20311004T160000
END:DAYLIGHT
END:VTIMEZONE
BEGIN:VEVENT
DTSTART;TZID=Australia/Sydney:20260525T100000
DTEND;TZID=Australia/Sydney:20260525T110000
DTSTAMP:20260424T210621
CREATED:20260122T002011Z
LAST-MODIFIED:20260122T002152Z
UID:10000399-1779703200-1779706800@walkerwayland.com
SUMMARY:Multi-Generational Advice Group Meeting
DESCRIPTION:Join us for our Monthly Multi-Generational Advice Group Meeting\, where professionals gather to explore strategies and share insights on managing wealth across generations.  \n 
URL:https://walkerwayland.com/event/multi-generational-advice-group-meeting-8-3/2026-05-25/
LOCATION:Virtual Session
CATEGORIES:Multi-Generational Advice
ATTACH;FMTTYPE=image/png:https://walkerwayland.com/wp-content/uploads/2024/07/WW_Multi-Gen.png
END:VEVENT
BEGIN:VEVENT
DTSTART;TZID=Australia/Sydney:20260727T100000
DTEND;TZID=Australia/Sydney:20260727T110000
DTSTAMP:20260424T210621
CREATED:20260122T002011Z
LAST-MODIFIED:20260122T002152Z
UID:10000400-1785146400-1785150000@walkerwayland.com
SUMMARY:Multi-Generational Advice Group Meeting
DESCRIPTION:Join us for our Monthly Multi-Generational Advice Group Meeting\, where professionals gather to explore strategies and share insights on managing wealth across generations.  \n 
URL:https://walkerwayland.com/event/multi-generational-advice-group-meeting-8-3/2026-07-27/
LOCATION:Virtual Session
CATEGORIES:Multi-Generational Advice
ATTACH;FMTTYPE=image/png:https://walkerwayland.com/wp-content/uploads/2024/07/WW_Multi-Gen.png
END:VEVENT
BEGIN:VEVENT
DTSTART;TZID=Australia/Sydney:20260928T100000
DTEND;TZID=Australia/Sydney:20260928T110000
DTSTAMP:20260424T210621
CREATED:20260122T002011Z
LAST-MODIFIED:20260122T002152Z
UID:10000401-1790589600-1790593200@walkerwayland.com
SUMMARY:Multi-Generational Advice Group Meeting
DESCRIPTION:Join us for our Monthly Multi-Generational Advice Group Meeting\, where professionals gather to explore strategies and share insights on managing wealth across generations.  \n 
URL:https://walkerwayland.com/event/multi-generational-advice-group-meeting-8-3/2026-09-28/
LOCATION:Virtual Session
CATEGORIES:Multi-Generational Advice
ATTACH;FMTTYPE=image/png:https://walkerwayland.com/wp-content/uploads/2024/07/WW_Multi-Gen.png
END:VEVENT
BEGIN:VEVENT
DTSTART;TZID=Australia/Sydney:20261123T100000
DTEND;TZID=Australia/Sydney:20261123T110000
DTSTAMP:20260424T210621
CREATED:20260122T002011Z
LAST-MODIFIED:20260122T002152Z
UID:10000402-1795428000-1795431600@walkerwayland.com
SUMMARY:Multi-Generational Advice Group Meeting
DESCRIPTION:Join us for our Monthly Multi-Generational Advice Group Meeting\, where professionals gather to explore strategies and share insights on managing wealth across generations.  \n 
URL:https://walkerwayland.com/event/multi-generational-advice-group-meeting-8-3/2026-11-23/
LOCATION:Virtual Session
CATEGORIES:Multi-Generational Advice
ATTACH;FMTTYPE=image/png:https://walkerwayland.com/wp-content/uploads/2024/07/WW_Multi-Gen.png
END:VEVENT
BEGIN:VEVENT
DTSTART;TZID=Australia/Sydney:20270125T100000
DTEND;TZID=Australia/Sydney:20270125T110000
DTSTAMP:20260424T210621
CREATED:20260122T002011Z
LAST-MODIFIED:20260122T002152Z
UID:10000403-1800871200-1800874800@walkerwayland.com
SUMMARY:Multi-Generational Advice Group Meeting
DESCRIPTION:Join us for our Monthly Multi-Generational Advice Group Meeting\, where professionals gather to explore strategies and share insights on managing wealth across generations.  \n 
URL:https://walkerwayland.com/event/multi-generational-advice-group-meeting-8-3/2027-01-25/
LOCATION:Virtual Session
CATEGORIES:Multi-Generational Advice
ATTACH;FMTTYPE=image/png:https://walkerwayland.com/wp-content/uploads/2024/07/WW_Multi-Gen.png
END:VEVENT
BEGIN:VEVENT
DTSTART;TZID=Australia/Sydney:20270322T100000
DTEND;TZID=Australia/Sydney:20270322T110000
DTSTAMP:20260424T210621
CREATED:20260122T002011Z
LAST-MODIFIED:20260122T002152Z
UID:10000404-1805709600-1805713200@walkerwayland.com
SUMMARY:Multi-Generational Advice Group Meeting
DESCRIPTION:Join us for our Monthly Multi-Generational Advice Group Meeting\, where professionals gather to explore strategies and share insights on managing wealth across generations.  \n 
URL:https://walkerwayland.com/event/multi-generational-advice-group-meeting-8-3/2027-03-22/
LOCATION:Virtual Session
CATEGORIES:Multi-Generational Advice
ATTACH;FMTTYPE=image/png:https://walkerwayland.com/wp-content/uploads/2024/07/WW_Multi-Gen.png
END:VEVENT
BEGIN:VEVENT
DTSTART;TZID=Australia/Sydney:20270524T100000
DTEND;TZID=Australia/Sydney:20270524T110000
DTSTAMP:20260424T210621
CREATED:20260122T002011Z
LAST-MODIFIED:20260122T002152Z
UID:10000405-1811152800-1811156400@walkerwayland.com
SUMMARY:Multi-Generational Advice Group Meeting
DESCRIPTION:Join us for our Monthly Multi-Generational Advice Group Meeting\, where professionals gather to explore strategies and share insights on managing wealth across generations.  \n 
URL:https://walkerwayland.com/event/multi-generational-advice-group-meeting-8-3/2027-05-24/
LOCATION:Virtual Session
CATEGORIES:Multi-Generational Advice
ATTACH;FMTTYPE=image/png:https://walkerwayland.com/wp-content/uploads/2024/07/WW_Multi-Gen.png
END:VEVENT
BEGIN:VEVENT
DTSTART;TZID=Australia/Sydney:20270726T100000
DTEND;TZID=Australia/Sydney:20270726T110000
DTSTAMP:20260424T210621
CREATED:20260122T002011Z
LAST-MODIFIED:20260122T002152Z
UID:10000406-1816596000-1816599600@walkerwayland.com
SUMMARY:Multi-Generational Advice Group Meeting
DESCRIPTION:Join us for our Monthly Multi-Generational Advice Group Meeting\, where professionals gather to explore strategies and share insights on managing wealth across generations.  \n 
URL:https://walkerwayland.com/event/multi-generational-advice-group-meeting-8-3/2027-07-26/
LOCATION:Virtual Session
CATEGORIES:Multi-Generational Advice
ATTACH;FMTTYPE=image/png:https://walkerwayland.com/wp-content/uploads/2024/07/WW_Multi-Gen.png
END:VEVENT
BEGIN:VEVENT
DTSTART;TZID=Australia/Sydney:20270927T100000
DTEND;TZID=Australia/Sydney:20270927T110000
DTSTAMP:20260424T210621
CREATED:20260122T002011Z
LAST-MODIFIED:20260122T002152Z
UID:10000407-1822039200-1822042800@walkerwayland.com
SUMMARY:Multi-Generational Advice Group Meeting
DESCRIPTION:Join us for our Monthly Multi-Generational Advice Group Meeting\, where professionals gather to explore strategies and share insights on managing wealth across generations.  \n 
URL:https://walkerwayland.com/event/multi-generational-advice-group-meeting-8-3/2027-09-27/
LOCATION:Virtual Session
CATEGORIES:Multi-Generational Advice
ATTACH;FMTTYPE=image/png:https://walkerwayland.com/wp-content/uploads/2024/07/WW_Multi-Gen.png
END:VEVENT
BEGIN:VEVENT
DTSTART;TZID=Australia/Sydney:20271122T100000
DTEND;TZID=Australia/Sydney:20271122T110000
DTSTAMP:20260424T210621
CREATED:20260122T002011Z
LAST-MODIFIED:20260122T002152Z
UID:10000408-1826877600-1826881200@walkerwayland.com
SUMMARY:Multi-Generational Advice Group Meeting
DESCRIPTION:Join us for our Monthly Multi-Generational Advice Group Meeting\, where professionals gather to explore strategies and share insights on managing wealth across generations.  \n 
URL:https://walkerwayland.com/event/multi-generational-advice-group-meeting-8-3/2027-11-22/
LOCATION:Virtual Session
CATEGORIES:Multi-Generational Advice
ATTACH;FMTTYPE=image/png:https://walkerwayland.com/wp-content/uploads/2024/07/WW_Multi-Gen.png
END:VEVENT
BEGIN:VEVENT
DTSTART;TZID=Australia/Sydney:20280124T100000
DTEND;TZID=Australia/Sydney:20280124T110000
DTSTAMP:20260424T210621
CREATED:20260122T002011Z
LAST-MODIFIED:20260122T002152Z
UID:10000409-1832320800-1832324400@walkerwayland.com
SUMMARY:Multi-Generational Advice Group Meeting
DESCRIPTION:Join us for our Monthly Multi-Generational Advice Group Meeting\, where professionals gather to explore strategies and share insights on managing wealth across generations.  \n 
URL:https://walkerwayland.com/event/multi-generational-advice-group-meeting-8-3/2028-01-24/
LOCATION:Virtual Session
CATEGORIES:Multi-Generational Advice
ATTACH;FMTTYPE=image/png:https://walkerwayland.com/wp-content/uploads/2024/07/WW_Multi-Gen.png
END:VEVENT
BEGIN:VEVENT
DTSTART;TZID=Australia/Sydney:20280327T100000
DTEND;TZID=Australia/Sydney:20280327T110000
DTSTAMP:20260424T210621
CREATED:20260122T002011Z
LAST-MODIFIED:20260122T002152Z
UID:10000410-1837764000-1837767600@walkerwayland.com
SUMMARY:Multi-Generational Advice Group Meeting
DESCRIPTION:Join us for our Monthly Multi-Generational Advice Group Meeting\, where professionals gather to explore strategies and share insights on managing wealth across generations.  \n 
URL:https://walkerwayland.com/event/multi-generational-advice-group-meeting-8-3/2028-03-27/
LOCATION:Virtual Session
CATEGORIES:Multi-Generational Advice
ATTACH;FMTTYPE=image/png:https://walkerwayland.com/wp-content/uploads/2024/07/WW_Multi-Gen.png
END:VEVENT
BEGIN:VEVENT
DTSTART;TZID=Australia/Sydney:20280522T100000
DTEND;TZID=Australia/Sydney:20280522T110000
DTSTAMP:20260424T210621
CREATED:20260122T002011Z
LAST-MODIFIED:20260122T002152Z
UID:10000411-1842602400-1842606000@walkerwayland.com
SUMMARY:Multi-Generational Advice Group Meeting
DESCRIPTION:Join us for our Monthly Multi-Generational Advice Group Meeting\, where professionals gather to explore strategies and share insights on managing wealth across generations.  \n 
URL:https://walkerwayland.com/event/multi-generational-advice-group-meeting-8-3/2028-05-22/
LOCATION:Virtual Session
CATEGORIES:Multi-Generational Advice
ATTACH;FMTTYPE=image/png:https://walkerwayland.com/wp-content/uploads/2024/07/WW_Multi-Gen.png
END:VEVENT
BEGIN:VEVENT
DTSTART;TZID=Australia/Sydney:20280724T100000
DTEND;TZID=Australia/Sydney:20280724T110000
DTSTAMP:20260424T210621
CREATED:20260122T002011Z
LAST-MODIFIED:20260122T002152Z
UID:10000412-1848045600-1848049200@walkerwayland.com
SUMMARY:Multi-Generational Advice Group Meeting
DESCRIPTION:Join us for our Monthly Multi-Generational Advice Group Meeting\, where professionals gather to explore strategies and share insights on managing wealth across generations.  \n 
URL:https://walkerwayland.com/event/multi-generational-advice-group-meeting-8-3/2028-07-24/
LOCATION:Virtual Session
CATEGORIES:Multi-Generational Advice
ATTACH;FMTTYPE=image/png:https://walkerwayland.com/wp-content/uploads/2024/07/WW_Multi-Gen.png
END:VEVENT
BEGIN:VEVENT
DTSTART;TZID=Australia/Sydney:20280925T100000
DTEND;TZID=Australia/Sydney:20280925T110000
DTSTAMP:20260424T210621
CREATED:20260122T002011Z
LAST-MODIFIED:20260122T002152Z
UID:10000413-1853488800-1853492400@walkerwayland.com
SUMMARY:Multi-Generational Advice Group Meeting
DESCRIPTION:Join us for our Monthly Multi-Generational Advice Group Meeting\, where professionals gather to explore strategies and share insights on managing wealth across generations.  \n 
URL:https://walkerwayland.com/event/multi-generational-advice-group-meeting-8-3/2028-09-25/
LOCATION:Virtual Session
CATEGORIES:Multi-Generational Advice
ATTACH;FMTTYPE=image/png:https://walkerwayland.com/wp-content/uploads/2024/07/WW_Multi-Gen.png
END:VEVENT
BEGIN:VEVENT
DTSTART;TZID=Australia/Sydney:20281127T100000
DTEND;TZID=Australia/Sydney:20281127T110000
DTSTAMP:20260424T210621
CREATED:20260122T002011Z
LAST-MODIFIED:20260122T002152Z
UID:10000414-1858932000-1858935600@walkerwayland.com
SUMMARY:Multi-Generational Advice Group Meeting
DESCRIPTION:Join us for our Monthly Multi-Generational Advice Group Meeting\, where professionals gather to explore strategies and share insights on managing wealth across generations.  \n 
URL:https://walkerwayland.com/event/multi-generational-advice-group-meeting-8-3/2028-11-27/
LOCATION:Virtual Session
CATEGORIES:Multi-Generational Advice
ATTACH;FMTTYPE=image/png:https://walkerwayland.com/wp-content/uploads/2024/07/WW_Multi-Gen.png
END:VEVENT
BEGIN:VEVENT
DTSTART;TZID=Australia/Sydney:20290122T100000
DTEND;TZID=Australia/Sydney:20290122T110000
DTSTAMP:20260424T210621
CREATED:20260122T002011Z
LAST-MODIFIED:20260122T002152Z
UID:10000415-1863770400-1863774000@walkerwayland.com
SUMMARY:Multi-Generational Advice Group Meeting
DESCRIPTION:Join us for our Monthly Multi-Generational Advice Group Meeting\, where professionals gather to explore strategies and share insights on managing wealth across generations.  \n 
URL:https://walkerwayland.com/event/multi-generational-advice-group-meeting-8-3/2029-01-22/
LOCATION:Virtual Session
CATEGORIES:Multi-Generational Advice
ATTACH;FMTTYPE=image/png:https://walkerwayland.com/wp-content/uploads/2024/07/WW_Multi-Gen.png
END:VEVENT
BEGIN:VEVENT
DTSTART;TZID=Australia/Sydney:20290326T100000
DTEND;TZID=Australia/Sydney:20290326T110000
DTSTAMP:20260424T210621
CREATED:20260122T002011Z
LAST-MODIFIED:20260122T002152Z
UID:10000416-1869213600-1869217200@walkerwayland.com
SUMMARY:Multi-Generational Advice Group Meeting
DESCRIPTION:Join us for our Monthly Multi-Generational Advice Group Meeting\, where professionals gather to explore strategies and share insights on managing wealth across generations.  \n 
URL:https://walkerwayland.com/event/multi-generational-advice-group-meeting-8-3/2029-03-26/
LOCATION:Virtual Session
CATEGORIES:Multi-Generational Advice
ATTACH;FMTTYPE=image/png:https://walkerwayland.com/wp-content/uploads/2024/07/WW_Multi-Gen.png
END:VEVENT
BEGIN:VEVENT
DTSTART;TZID=Australia/Sydney:20290528T100000
DTEND;TZID=Australia/Sydney:20290528T110000
DTSTAMP:20260424T210621
CREATED:20260122T002011Z
LAST-MODIFIED:20260122T002152Z
UID:10000417-1874656800-1874660400@walkerwayland.com
SUMMARY:Multi-Generational Advice Group Meeting
DESCRIPTION:Join us for our Monthly Multi-Generational Advice Group Meeting\, where professionals gather to explore strategies and share insights on managing wealth across generations.  \n 
URL:https://walkerwayland.com/event/multi-generational-advice-group-meeting-8-3/2029-05-28/
LOCATION:Virtual Session
CATEGORIES:Multi-Generational Advice
ATTACH;FMTTYPE=image/png:https://walkerwayland.com/wp-content/uploads/2024/07/WW_Multi-Gen.png
END:VEVENT
BEGIN:VEVENT
DTSTART;TZID=Australia/Sydney:20290723T100000
DTEND;TZID=Australia/Sydney:20290723T110000
DTSTAMP:20260424T210621
CREATED:20260122T002011Z
LAST-MODIFIED:20260122T002152Z
UID:10000418-1879495200-1879498800@walkerwayland.com
SUMMARY:Multi-Generational Advice Group Meeting
DESCRIPTION:Join us for our Monthly Multi-Generational Advice Group Meeting\, where professionals gather to explore strategies and share insights on managing wealth across generations.  \n 
URL:https://walkerwayland.com/event/multi-generational-advice-group-meeting-8-3/2029-07-23/
LOCATION:Virtual Session
CATEGORIES:Multi-Generational Advice
ATTACH;FMTTYPE=image/png:https://walkerwayland.com/wp-content/uploads/2024/07/WW_Multi-Gen.png
END:VEVENT
BEGIN:VEVENT
DTSTART;TZID=Australia/Sydney:20290924T100000
DTEND;TZID=Australia/Sydney:20290924T110000
DTSTAMP:20260424T210621
CREATED:20260122T002011Z
LAST-MODIFIED:20260122T002152Z
UID:10000419-1884938400-1884942000@walkerwayland.com
SUMMARY:Multi-Generational Advice Group Meeting
DESCRIPTION:Join us for our Monthly Multi-Generational Advice Group Meeting\, where professionals gather to explore strategies and share insights on managing wealth across generations.  \n 
URL:https://walkerwayland.com/event/multi-generational-advice-group-meeting-8-3/2029-09-24/
LOCATION:Virtual Session
CATEGORIES:Multi-Generational Advice
ATTACH;FMTTYPE=image/png:https://walkerwayland.com/wp-content/uploads/2024/07/WW_Multi-Gen.png
END:VEVENT
BEGIN:VEVENT
DTSTART;TZID=Australia/Sydney:20291126T100000
DTEND;TZID=Australia/Sydney:20291126T110000
DTSTAMP:20260424T210621
CREATED:20260122T002011Z
LAST-MODIFIED:20260122T002152Z
UID:10000420-1890381600-1890385200@walkerwayland.com
SUMMARY:Multi-Generational Advice Group Meeting
DESCRIPTION:Join us for our Monthly Multi-Generational Advice Group Meeting\, where professionals gather to explore strategies and share insights on managing wealth across generations.  \n 
URL:https://walkerwayland.com/event/multi-generational-advice-group-meeting-8-3/2029-11-26/
LOCATION:Virtual Session
CATEGORIES:Multi-Generational Advice
ATTACH;FMTTYPE=image/png:https://walkerwayland.com/wp-content/uploads/2024/07/WW_Multi-Gen.png
END:VEVENT
BEGIN:VEVENT
DTSTART;TZID=Australia/Sydney:20300128T100000
DTEND;TZID=Australia/Sydney:20300128T110000
DTSTAMP:20260424T210621
CREATED:20260122T002011Z
LAST-MODIFIED:20260122T002152Z
UID:10000421-1895824800-1895828400@walkerwayland.com
SUMMARY:Multi-Generational Advice Group Meeting
DESCRIPTION:Join us for our Monthly Multi-Generational Advice Group Meeting\, where professionals gather to explore strategies and share insights on managing wealth across generations.  \n 
URL:https://walkerwayland.com/event/multi-generational-advice-group-meeting-8-3/2030-01-28/
LOCATION:Virtual Session
CATEGORIES:Multi-Generational Advice
ATTACH;FMTTYPE=image/png:https://walkerwayland.com/wp-content/uploads/2024/07/WW_Multi-Gen.png
END:VEVENT
BEGIN:VEVENT
DTSTART;TZID=Australia/Sydney:20300325T100000
DTEND;TZID=Australia/Sydney:20300325T110000
DTSTAMP:20260424T210621
CREATED:20260122T002011Z
LAST-MODIFIED:20260122T002152Z
UID:10000422-1900663200-1900666800@walkerwayland.com
SUMMARY:Multi-Generational Advice Group Meeting
DESCRIPTION:Join us for our Monthly Multi-Generational Advice Group Meeting\, where professionals gather to explore strategies and share insights on managing wealth across generations.  \n 
URL:https://walkerwayland.com/event/multi-generational-advice-group-meeting-8-3/2030-03-25/
LOCATION:Virtual Session
CATEGORIES:Multi-Generational Advice
ATTACH;FMTTYPE=image/png:https://walkerwayland.com/wp-content/uploads/2024/07/WW_Multi-Gen.png
END:VEVENT
BEGIN:VEVENT
DTSTART;TZID=Australia/Sydney:20300527T100000
DTEND;TZID=Australia/Sydney:20300527T110000
DTSTAMP:20260424T210621
CREATED:20260122T002011Z
LAST-MODIFIED:20260122T002152Z
UID:10000423-1906106400-1906110000@walkerwayland.com
SUMMARY:Multi-Generational Advice Group Meeting
DESCRIPTION:Join us for our Monthly Multi-Generational Advice Group Meeting\, where professionals gather to explore strategies and share insights on managing wealth across generations.  \n 
URL:https://walkerwayland.com/event/multi-generational-advice-group-meeting-8-3/2030-05-27/
LOCATION:Virtual Session
CATEGORIES:Multi-Generational Advice
ATTACH;FMTTYPE=image/png:https://walkerwayland.com/wp-content/uploads/2024/07/WW_Multi-Gen.png
END:VEVENT
BEGIN:VEVENT
DTSTART;TZID=Australia/Sydney:20300722T100000
DTEND;TZID=Australia/Sydney:20300722T110000
DTSTAMP:20260424T210621
CREATED:20260122T002011Z
LAST-MODIFIED:20260122T002152Z
UID:10000424-1910944800-1910948400@walkerwayland.com
SUMMARY:Multi-Generational Advice Group Meeting
DESCRIPTION:Join us for our Monthly Multi-Generational Advice Group Meeting\, where professionals gather to explore strategies and share insights on managing wealth across generations.  \n 
URL:https://walkerwayland.com/event/multi-generational-advice-group-meeting-8-3/2030-07-22/
LOCATION:Virtual Session
CATEGORIES:Multi-Generational Advice
ATTACH;FMTTYPE=image/png:https://walkerwayland.com/wp-content/uploads/2024/07/WW_Multi-Gen.png
END:VEVENT
BEGIN:VEVENT
DTSTART;TZID=Australia/Sydney:20300923T100000
DTEND;TZID=Australia/Sydney:20300923T110000
DTSTAMP:20260424T210621
CREATED:20260122T002011Z
LAST-MODIFIED:20260122T002152Z
UID:10000425-1916388000-1916391600@walkerwayland.com
SUMMARY:Multi-Generational Advice Group Meeting
DESCRIPTION:Join us for our Monthly Multi-Generational Advice Group Meeting\, where professionals gather to explore strategies and share insights on managing wealth across generations.  \n 
URL:https://walkerwayland.com/event/multi-generational-advice-group-meeting-8-3/2030-09-23/
LOCATION:Virtual Session
CATEGORIES:Multi-Generational Advice
ATTACH;FMTTYPE=image/png:https://walkerwayland.com/wp-content/uploads/2024/07/WW_Multi-Gen.png
END:VEVENT
BEGIN:VEVENT
DTSTART;TZID=Australia/Sydney:20301125T100000
DTEND;TZID=Australia/Sydney:20301125T110000
DTSTAMP:20260424T210621
CREATED:20260122T002011Z
LAST-MODIFIED:20260122T002152Z
UID:10000426-1921831200-1921834800@walkerwayland.com
SUMMARY:Multi-Generational Advice Group Meeting
DESCRIPTION:Join us for our Monthly Multi-Generational Advice Group Meeting\, where professionals gather to explore strategies and share insights on managing wealth across generations.  \n 
URL:https://walkerwayland.com/event/multi-generational-advice-group-meeting-8-3/2030-11-25/
LOCATION:Virtual Session
CATEGORIES:Multi-Generational Advice
ATTACH;FMTTYPE=image/png:https://walkerwayland.com/wp-content/uploads/2024/07/WW_Multi-Gen.png
END:VEVENT
END:VCALENDAR