BEGIN:VCALENDAR
VERSION:2.0
PRODID:-//Walker Wayland Australasia - ECPv6.15.20//NONSGML v1.0//EN
CALSCALE:GREGORIAN
METHOD:PUBLISH
X-ORIGINAL-URL:https://walkerwayland.com
X-WR-CALDESC:Events for Walker Wayland Australasia
REFRESH-INTERVAL;VALUE=DURATION:PT1H
X-Robots-Tag:noindex
X-PUBLISHED-TTL:PT1H
BEGIN:VTIMEZONE
TZID:Australia/Sydney
BEGIN:STANDARD
TZOFFSETFROM:+1100
TZOFFSETTO:+1000
TZNAME:AEST
DTSTART:20260404T160000
END:STANDARD
BEGIN:DAYLIGHT
TZOFFSETFROM:+1000
TZOFFSETTO:+1100
TZNAME:AEDT
DTSTART:20261003T160000
END:DAYLIGHT
BEGIN:STANDARD
TZOFFSETFROM:+1100
TZOFFSETTO:+1000
TZNAME:AEST
DTSTART:20270403T160000
END:STANDARD
BEGIN:DAYLIGHT
TZOFFSETFROM:+1000
TZOFFSETTO:+1100
TZNAME:AEDT
DTSTART:20271002T160000
END:DAYLIGHT
BEGIN:STANDARD
TZOFFSETFROM:+1100
TZOFFSETTO:+1000
TZNAME:AEST
DTSTART:20280401T160000
END:STANDARD
BEGIN:DAYLIGHT
TZOFFSETFROM:+1000
TZOFFSETTO:+1100
TZNAME:AEDT
DTSTART:20280930T160000
END:DAYLIGHT
END:VTIMEZONE
BEGIN:VEVENT
DTSTART;TZID=Australia/Sydney:20270125T100000
DTEND;TZID=Australia/Sydney:20270125T110000
DTSTAMP:20260425T004314
CREATED:20260122T002011Z
LAST-MODIFIED:20260122T002152Z
UID:10000403-1800871200-1800874800@walkerwayland.com
SUMMARY:Multi-Generational Advice Group Meeting
DESCRIPTION:Join us for our Monthly Multi-Generational Advice Group Meeting\, where professionals gather to explore strategies and share insights on managing wealth across generations.  \n 
URL:https://walkerwayland.com/event/multi-generational-advice-group-meeting-8-3/2027-01-25/
LOCATION:Virtual Session
CATEGORIES:Multi-Generational Advice
ATTACH;FMTTYPE=image/png:https://walkerwayland.com/wp-content/uploads/2024/07/WW_Multi-Gen.png
END:VEVENT
BEGIN:VEVENT
DTSTART;TZID=Australia/Sydney:20270201T110000
DTEND;TZID=Australia/Sydney:20270201T120000
DTSTAMP:20260425T004314
CREATED:20250519T032732Z
LAST-MODIFIED:20250715T033528Z
UID:10000288-1801479600-1801483200@walkerwayland.com
SUMMARY:Audit Collaboration Group Meeting
DESCRIPTION:Join the WWA Audit Leaders for our Monthly Audit Group Meeting\, where industry professionals come together to share insights\, discuss the latest trends\, and collaborate on best practices in auditing. 
URL:https://walkerwayland.com/event/audit-collaboration-group-meeting-4/2027-02-01/
LOCATION:Virtual Session
CATEGORIES:Audit
ATTACH;FMTTYPE=image/png:https://walkerwayland.com/wp-content/uploads/2024/07/WW_Audit.png
END:VEVENT
BEGIN:VEVENT
DTSTART;TZID=Australia/Sydney:20270204T110000
DTEND;TZID=Australia/Sydney:20270204T120000
DTSTAMP:20260425T004314
CREATED:20250519T032414Z
LAST-MODIFIED:20250715T034256Z
UID:10000348-1801738800-1801742400@walkerwayland.com
SUMMARY:Team Liaison Collaboration Group Meeting
DESCRIPTION:Join us for our Monthly Team Liaison Innovation Collaboration Group Meeting\, where professionals gather to enhance WWA team coordination and drive connection through effective collaboration. 
URL:https://walkerwayland.com/event/team-liaison-collaboration-group-meeting-5/2027-02-04/
LOCATION:Virtual Session
CATEGORIES:Team Liaison
ATTACH;FMTTYPE=image/png:https://walkerwayland.com/wp-content/uploads/2024/07/WW_Team-Liason.png
END:VEVENT
BEGIN:VEVENT
DTSTART;TZID=Australia/Sydney:20270217T110000
DTEND;TZID=Australia/Sydney:20270217T113000
DTSTAMP:20260425T004314
CREATED:20250519T033019Z
LAST-MODIFIED:20250715T033228Z
UID:10000113-1802862000-1802863800@walkerwayland.com
SUMMARY:Super and SMSF Collaboration Group Meeting
DESCRIPTION:Join the WWA Super and SMSF Leaders for our Monthly Super & SMSF Innovation Collaboration Group Meeting\, where professionals unite to discuss the latest developments and strategies in superannuation and self-managed super funds (SMSFs). 
URL:https://walkerwayland.com/event/super-and-smsf-collaboration-group-meeting-7/2027-02-17/
LOCATION:Virtual Session
CATEGORIES:Super and SMSF
ATTACH;FMTTYPE=image/png:https://walkerwayland.com/wp-content/uploads/2024/07/WW_Super.png
END:VEVENT
BEGIN:VEVENT
DTSTART;TZID=Australia/Sydney:20270218T130000
DTEND;TZID=Australia/Sydney:20270218T140000
DTSTAMP:20260425T004314
CREATED:20250519T033217Z
LAST-MODIFIED:20250715T033446Z
UID:10000229-1802955600-1802959200@walkerwayland.com
SUMMARY:Digital Innovation Collaboration Group Meeting
DESCRIPTION:Join us for our Monthly Digital Innovation Collaboration Group Meeting\, where forward-thinking professionals come together to discuss the latest advancements and trends in digital innovation. 
URL:https://walkerwayland.com/event/digital-innovation-collaboration-group-meeting-7/2027-02-18/
LOCATION:Virtual Session
CATEGORIES:Digital Innovation
ATTACH;FMTTYPE=image/png:https://walkerwayland.com/wp-content/uploads/2024/07/WW_Digital.png
END:VEVENT
BEGIN:VEVENT
DTSTART;TZID=Australia/Sydney:20270301T110000
DTEND;TZID=Australia/Sydney:20270301T120000
DTSTAMP:20260425T004314
CREATED:20250519T032732Z
LAST-MODIFIED:20250715T033528Z
UID:10000289-1803898800-1803902400@walkerwayland.com
SUMMARY:Audit Collaboration Group Meeting
DESCRIPTION:Join the WWA Audit Leaders for our Monthly Audit Group Meeting\, where industry professionals come together to share insights\, discuss the latest trends\, and collaborate on best practices in auditing. 
URL:https://walkerwayland.com/event/audit-collaboration-group-meeting-4/2027-03-01/
LOCATION:Virtual Session
CATEGORIES:Audit
ATTACH;FMTTYPE=image/png:https://walkerwayland.com/wp-content/uploads/2024/07/WW_Audit.png
END:VEVENT
BEGIN:VEVENT
DTSTART;TZID=Australia/Sydney:20270304T110000
DTEND;TZID=Australia/Sydney:20270304T120000
DTSTAMP:20260425T004314
CREATED:20250519T032414Z
LAST-MODIFIED:20250715T034256Z
UID:10000349-1804158000-1804161600@walkerwayland.com
SUMMARY:Team Liaison Collaboration Group Meeting
DESCRIPTION:Join us for our Monthly Team Liaison Innovation Collaboration Group Meeting\, where professionals gather to enhance WWA team coordination and drive connection through effective collaboration. 
URL:https://walkerwayland.com/event/team-liaison-collaboration-group-meeting-5/2027-03-04/
LOCATION:Virtual Session
CATEGORIES:Team Liaison
ATTACH;FMTTYPE=image/png:https://walkerwayland.com/wp-content/uploads/2024/07/WW_Team-Liason.png
END:VEVENT
BEGIN:VEVENT
DTSTART;TZID=Australia/Sydney:20270317T110000
DTEND;TZID=Australia/Sydney:20270317T113000
DTSTAMP:20260425T004314
CREATED:20250519T033019Z
LAST-MODIFIED:20250715T033228Z
UID:10000114-1805281200-1805283000@walkerwayland.com
SUMMARY:Super and SMSF Collaboration Group Meeting
DESCRIPTION:Join the WWA Super and SMSF Leaders for our Monthly Super & SMSF Innovation Collaboration Group Meeting\, where professionals unite to discuss the latest developments and strategies in superannuation and self-managed super funds (SMSFs). 
URL:https://walkerwayland.com/event/super-and-smsf-collaboration-group-meeting-7/2027-03-17/
LOCATION:Virtual Session
CATEGORIES:Super and SMSF
ATTACH;FMTTYPE=image/png:https://walkerwayland.com/wp-content/uploads/2024/07/WW_Super.png
END:VEVENT
BEGIN:VEVENT
DTSTART;TZID=Australia/Sydney:20270318T130000
DTEND;TZID=Australia/Sydney:20270318T140000
DTSTAMP:20260425T004314
CREATED:20250519T033217Z
LAST-MODIFIED:20250715T033446Z
UID:10000230-1805374800-1805378400@walkerwayland.com
SUMMARY:Digital Innovation Collaboration Group Meeting
DESCRIPTION:Join us for our Monthly Digital Innovation Collaboration Group Meeting\, where forward-thinking professionals come together to discuss the latest advancements and trends in digital innovation. 
URL:https://walkerwayland.com/event/digital-innovation-collaboration-group-meeting-7/2027-03-18/
LOCATION:Virtual Session
CATEGORIES:Digital Innovation
ATTACH;FMTTYPE=image/png:https://walkerwayland.com/wp-content/uploads/2024/07/WW_Digital.png
END:VEVENT
BEGIN:VEVENT
DTSTART;TZID=Australia/Sydney:20270322T100000
DTEND;TZID=Australia/Sydney:20270322T110000
DTSTAMP:20260425T004314
CREATED:20260122T002011Z
LAST-MODIFIED:20260122T002152Z
UID:10000404-1805709600-1805713200@walkerwayland.com
SUMMARY:Multi-Generational Advice Group Meeting
DESCRIPTION:Join us for our Monthly Multi-Generational Advice Group Meeting\, where professionals gather to explore strategies and share insights on managing wealth across generations.  \n 
URL:https://walkerwayland.com/event/multi-generational-advice-group-meeting-8-3/2027-03-22/
LOCATION:Virtual Session
CATEGORIES:Multi-Generational Advice
ATTACH;FMTTYPE=image/png:https://walkerwayland.com/wp-content/uploads/2024/07/WW_Multi-Gen.png
END:VEVENT
BEGIN:VEVENT
DTSTART;TZID=Australia/Sydney:20270401T110000
DTEND;TZID=Australia/Sydney:20270401T120000
DTSTAMP:20260425T004314
CREATED:20250519T032414Z
LAST-MODIFIED:20250715T034256Z
UID:10000350-1806577200-1806580800@walkerwayland.com
SUMMARY:Team Liaison Collaboration Group Meeting
DESCRIPTION:Join us for our Monthly Team Liaison Innovation Collaboration Group Meeting\, where professionals gather to enhance WWA team coordination and drive connection through effective collaboration. 
URL:https://walkerwayland.com/event/team-liaison-collaboration-group-meeting-5/2027-04-01/
LOCATION:Virtual Session
CATEGORIES:Team Liaison
ATTACH;FMTTYPE=image/png:https://walkerwayland.com/wp-content/uploads/2024/07/WW_Team-Liason.png
END:VEVENT
BEGIN:VEVENT
DTSTART;TZID=Australia/Sydney:20270405T110000
DTEND;TZID=Australia/Sydney:20270405T120000
DTSTAMP:20260425T004314
CREATED:20250519T032732Z
LAST-MODIFIED:20250715T033528Z
UID:10000290-1806922800-1806926400@walkerwayland.com
SUMMARY:Audit Collaboration Group Meeting
DESCRIPTION:Join the WWA Audit Leaders for our Monthly Audit Group Meeting\, where industry professionals come together to share insights\, discuss the latest trends\, and collaborate on best practices in auditing. 
URL:https://walkerwayland.com/event/audit-collaboration-group-meeting-4/2027-04-05/
LOCATION:Virtual Session
CATEGORIES:Audit
ATTACH;FMTTYPE=image/png:https://walkerwayland.com/wp-content/uploads/2024/07/WW_Audit.png
END:VEVENT
BEGIN:VEVENT
DTSTART;TZID=Australia/Sydney:20270415T130000
DTEND;TZID=Australia/Sydney:20270415T140000
DTSTAMP:20260425T004314
CREATED:20250519T033217Z
LAST-MODIFIED:20250715T033446Z
UID:10000231-1807794000-1807797600@walkerwayland.com
SUMMARY:Digital Innovation Collaboration Group Meeting
DESCRIPTION:Join us for our Monthly Digital Innovation Collaboration Group Meeting\, where forward-thinking professionals come together to discuss the latest advancements and trends in digital innovation. 
URL:https://walkerwayland.com/event/digital-innovation-collaboration-group-meeting-7/2027-04-15/
LOCATION:Virtual Session
CATEGORIES:Digital Innovation
ATTACH;FMTTYPE=image/png:https://walkerwayland.com/wp-content/uploads/2024/07/WW_Digital.png
END:VEVENT
BEGIN:VEVENT
DTSTART;TZID=Australia/Sydney:20270421T110000
DTEND;TZID=Australia/Sydney:20270421T113000
DTSTAMP:20260425T004314
CREATED:20250519T033019Z
LAST-MODIFIED:20250715T033228Z
UID:10000115-1808305200-1808307000@walkerwayland.com
SUMMARY:Super and SMSF Collaboration Group Meeting
DESCRIPTION:Join the WWA Super and SMSF Leaders for our Monthly Super & SMSF Innovation Collaboration Group Meeting\, where professionals unite to discuss the latest developments and strategies in superannuation and self-managed super funds (SMSFs). 
URL:https://walkerwayland.com/event/super-and-smsf-collaboration-group-meeting-7/2027-04-21/
LOCATION:Virtual Session
CATEGORIES:Super and SMSF
ATTACH;FMTTYPE=image/png:https://walkerwayland.com/wp-content/uploads/2024/07/WW_Super.png
END:VEVENT
BEGIN:VEVENT
DTSTART;TZID=Australia/Sydney:20270503T110000
DTEND;TZID=Australia/Sydney:20270503T120000
DTSTAMP:20260425T004314
CREATED:20250519T032732Z
LAST-MODIFIED:20250715T033528Z
UID:10000291-1809342000-1809345600@walkerwayland.com
SUMMARY:Audit Collaboration Group Meeting
DESCRIPTION:Join the WWA Audit Leaders for our Monthly Audit Group Meeting\, where industry professionals come together to share insights\, discuss the latest trends\, and collaborate on best practices in auditing. 
URL:https://walkerwayland.com/event/audit-collaboration-group-meeting-4/2027-05-03/
LOCATION:Virtual Session
CATEGORIES:Audit
ATTACH;FMTTYPE=image/png:https://walkerwayland.com/wp-content/uploads/2024/07/WW_Audit.png
END:VEVENT
BEGIN:VEVENT
DTSTART;TZID=Australia/Sydney:20270506T110000
DTEND;TZID=Australia/Sydney:20270506T120000
DTSTAMP:20260425T004314
CREATED:20250519T032414Z
LAST-MODIFIED:20250715T034256Z
UID:10000351-1809601200-1809604800@walkerwayland.com
SUMMARY:Team Liaison Collaboration Group Meeting
DESCRIPTION:Join us for our Monthly Team Liaison Innovation Collaboration Group Meeting\, where professionals gather to enhance WWA team coordination and drive connection through effective collaboration. 
URL:https://walkerwayland.com/event/team-liaison-collaboration-group-meeting-5/2027-05-06/
LOCATION:Virtual Session
CATEGORIES:Team Liaison
ATTACH;FMTTYPE=image/png:https://walkerwayland.com/wp-content/uploads/2024/07/WW_Team-Liason.png
END:VEVENT
BEGIN:VEVENT
DTSTART;TZID=Australia/Sydney:20270519T110000
DTEND;TZID=Australia/Sydney:20270519T113000
DTSTAMP:20260425T004314
CREATED:20250519T033019Z
LAST-MODIFIED:20250715T033228Z
UID:10000116-1810724400-1810726200@walkerwayland.com
SUMMARY:Super and SMSF Collaboration Group Meeting
DESCRIPTION:Join the WWA Super and SMSF Leaders for our Monthly Super & SMSF Innovation Collaboration Group Meeting\, where professionals unite to discuss the latest developments and strategies in superannuation and self-managed super funds (SMSFs). 
URL:https://walkerwayland.com/event/super-and-smsf-collaboration-group-meeting-7/2027-05-19/
LOCATION:Virtual Session
CATEGORIES:Super and SMSF
ATTACH;FMTTYPE=image/png:https://walkerwayland.com/wp-content/uploads/2024/07/WW_Super.png
END:VEVENT
BEGIN:VEVENT
DTSTART;TZID=Australia/Sydney:20270520T130000
DTEND;TZID=Australia/Sydney:20270520T140000
DTSTAMP:20260425T004314
CREATED:20250519T033217Z
LAST-MODIFIED:20250715T033446Z
UID:10000232-1810818000-1810821600@walkerwayland.com
SUMMARY:Digital Innovation Collaboration Group Meeting
DESCRIPTION:Join us for our Monthly Digital Innovation Collaboration Group Meeting\, where forward-thinking professionals come together to discuss the latest advancements and trends in digital innovation. 
URL:https://walkerwayland.com/event/digital-innovation-collaboration-group-meeting-7/2027-05-20/
LOCATION:Virtual Session
CATEGORIES:Digital Innovation
ATTACH;FMTTYPE=image/png:https://walkerwayland.com/wp-content/uploads/2024/07/WW_Digital.png
END:VEVENT
BEGIN:VEVENT
DTSTART;TZID=Australia/Sydney:20270524T100000
DTEND;TZID=Australia/Sydney:20270524T110000
DTSTAMP:20260425T004314
CREATED:20260122T002011Z
LAST-MODIFIED:20260122T002152Z
UID:10000405-1811152800-1811156400@walkerwayland.com
SUMMARY:Multi-Generational Advice Group Meeting
DESCRIPTION:Join us for our Monthly Multi-Generational Advice Group Meeting\, where professionals gather to explore strategies and share insights on managing wealth across generations.  \n 
URL:https://walkerwayland.com/event/multi-generational-advice-group-meeting-8-3/2027-05-24/
LOCATION:Virtual Session
CATEGORIES:Multi-Generational Advice
ATTACH;FMTTYPE=image/png:https://walkerwayland.com/wp-content/uploads/2024/07/WW_Multi-Gen.png
END:VEVENT
BEGIN:VEVENT
DTSTART;TZID=Australia/Sydney:20270603T110000
DTEND;TZID=Australia/Sydney:20270603T120000
DTSTAMP:20260425T004314
CREATED:20250519T032414Z
LAST-MODIFIED:20250715T034256Z
UID:10000352-1812020400-1812024000@walkerwayland.com
SUMMARY:Team Liaison Collaboration Group Meeting
DESCRIPTION:Join us for our Monthly Team Liaison Innovation Collaboration Group Meeting\, where professionals gather to enhance WWA team coordination and drive connection through effective collaboration. 
URL:https://walkerwayland.com/event/team-liaison-collaboration-group-meeting-5/2027-06-03/
LOCATION:Virtual Session
CATEGORIES:Team Liaison
ATTACH;FMTTYPE=image/png:https://walkerwayland.com/wp-content/uploads/2024/07/WW_Team-Liason.png
END:VEVENT
BEGIN:VEVENT
DTSTART;TZID=Australia/Sydney:20270607T110000
DTEND;TZID=Australia/Sydney:20270607T120000
DTSTAMP:20260425T004314
CREATED:20250519T032732Z
LAST-MODIFIED:20250715T033528Z
UID:10000292-1812366000-1812369600@walkerwayland.com
SUMMARY:Audit Collaboration Group Meeting
DESCRIPTION:Join the WWA Audit Leaders for our Monthly Audit Group Meeting\, where industry professionals come together to share insights\, discuss the latest trends\, and collaborate on best practices in auditing. 
URL:https://walkerwayland.com/event/audit-collaboration-group-meeting-4/2027-06-07/
LOCATION:Virtual Session
CATEGORIES:Audit
ATTACH;FMTTYPE=image/png:https://walkerwayland.com/wp-content/uploads/2024/07/WW_Audit.png
END:VEVENT
BEGIN:VEVENT
DTSTART;TZID=Australia/Sydney:20270616T110000
DTEND;TZID=Australia/Sydney:20270616T113000
DTSTAMP:20260425T004314
CREATED:20250519T033019Z
LAST-MODIFIED:20250715T033228Z
UID:10000117-1813143600-1813145400@walkerwayland.com
SUMMARY:Super and SMSF Collaboration Group Meeting
DESCRIPTION:Join the WWA Super and SMSF Leaders for our Monthly Super & SMSF Innovation Collaboration Group Meeting\, where professionals unite to discuss the latest developments and strategies in superannuation and self-managed super funds (SMSFs). 
URL:https://walkerwayland.com/event/super-and-smsf-collaboration-group-meeting-7/2027-06-16/
LOCATION:Virtual Session
CATEGORIES:Super and SMSF
ATTACH;FMTTYPE=image/png:https://walkerwayland.com/wp-content/uploads/2024/07/WW_Super.png
END:VEVENT
BEGIN:VEVENT
DTSTART;TZID=Australia/Sydney:20270617T130000
DTEND;TZID=Australia/Sydney:20270617T140000
DTSTAMP:20260425T004314
CREATED:20250519T033217Z
LAST-MODIFIED:20250715T033446Z
UID:10000233-1813237200-1813240800@walkerwayland.com
SUMMARY:Digital Innovation Collaboration Group Meeting
DESCRIPTION:Join us for our Monthly Digital Innovation Collaboration Group Meeting\, where forward-thinking professionals come together to discuss the latest advancements and trends in digital innovation. 
URL:https://walkerwayland.com/event/digital-innovation-collaboration-group-meeting-7/2027-06-17/
LOCATION:Virtual Session
CATEGORIES:Digital Innovation
ATTACH;FMTTYPE=image/png:https://walkerwayland.com/wp-content/uploads/2024/07/WW_Digital.png
END:VEVENT
BEGIN:VEVENT
DTSTART;TZID=Australia/Sydney:20270701T110000
DTEND;TZID=Australia/Sydney:20270701T120000
DTSTAMP:20260425T004314
CREATED:20250519T032414Z
LAST-MODIFIED:20250715T034256Z
UID:10000353-1814439600-1814443200@walkerwayland.com
SUMMARY:Team Liaison Collaboration Group Meeting
DESCRIPTION:Join us for our Monthly Team Liaison Innovation Collaboration Group Meeting\, where professionals gather to enhance WWA team coordination and drive connection through effective collaboration. 
URL:https://walkerwayland.com/event/team-liaison-collaboration-group-meeting-5/2027-07-01/
LOCATION:Virtual Session
CATEGORIES:Team Liaison
ATTACH;FMTTYPE=image/png:https://walkerwayland.com/wp-content/uploads/2024/07/WW_Team-Liason.png
END:VEVENT
BEGIN:VEVENT
DTSTART;TZID=Australia/Sydney:20270705T110000
DTEND;TZID=Australia/Sydney:20270705T120000
DTSTAMP:20260425T004314
CREATED:20250519T032732Z
LAST-MODIFIED:20250715T033528Z
UID:10000293-1814785200-1814788800@walkerwayland.com
SUMMARY:Audit Collaboration Group Meeting
DESCRIPTION:Join the WWA Audit Leaders for our Monthly Audit Group Meeting\, where industry professionals come together to share insights\, discuss the latest trends\, and collaborate on best practices in auditing. 
URL:https://walkerwayland.com/event/audit-collaboration-group-meeting-4/2027-07-05/
LOCATION:Virtual Session
CATEGORIES:Audit
ATTACH;FMTTYPE=image/png:https://walkerwayland.com/wp-content/uploads/2024/07/WW_Audit.png
END:VEVENT
BEGIN:VEVENT
DTSTART;TZID=Australia/Sydney:20270715T130000
DTEND;TZID=Australia/Sydney:20270715T140000
DTSTAMP:20260425T004314
CREATED:20250519T033217Z
LAST-MODIFIED:20250715T033446Z
UID:10000234-1815656400-1815660000@walkerwayland.com
SUMMARY:Digital Innovation Collaboration Group Meeting
DESCRIPTION:Join us for our Monthly Digital Innovation Collaboration Group Meeting\, where forward-thinking professionals come together to discuss the latest advancements and trends in digital innovation. 
URL:https://walkerwayland.com/event/digital-innovation-collaboration-group-meeting-7/2027-07-15/
LOCATION:Virtual Session
CATEGORIES:Digital Innovation
ATTACH;FMTTYPE=image/png:https://walkerwayland.com/wp-content/uploads/2024/07/WW_Digital.png
END:VEVENT
BEGIN:VEVENT
DTSTART;TZID=Australia/Sydney:20270721T110000
DTEND;TZID=Australia/Sydney:20270721T113000
DTSTAMP:20260425T004314
CREATED:20250519T033019Z
LAST-MODIFIED:20250715T033228Z
UID:10000118-1816167600-1816169400@walkerwayland.com
SUMMARY:Super and SMSF Collaboration Group Meeting
DESCRIPTION:Join the WWA Super and SMSF Leaders for our Monthly Super & SMSF Innovation Collaboration Group Meeting\, where professionals unite to discuss the latest developments and strategies in superannuation and self-managed super funds (SMSFs). 
URL:https://walkerwayland.com/event/super-and-smsf-collaboration-group-meeting-7/2027-07-21/
LOCATION:Virtual Session
CATEGORIES:Super and SMSF
ATTACH;FMTTYPE=image/png:https://walkerwayland.com/wp-content/uploads/2024/07/WW_Super.png
END:VEVENT
BEGIN:VEVENT
DTSTART;TZID=Australia/Sydney:20270726T100000
DTEND;TZID=Australia/Sydney:20270726T110000
DTSTAMP:20260425T004314
CREATED:20260122T002011Z
LAST-MODIFIED:20260122T002152Z
UID:10000406-1816596000-1816599600@walkerwayland.com
SUMMARY:Multi-Generational Advice Group Meeting
DESCRIPTION:Join us for our Monthly Multi-Generational Advice Group Meeting\, where professionals gather to explore strategies and share insights on managing wealth across generations.  \n 
URL:https://walkerwayland.com/event/multi-generational-advice-group-meeting-8-3/2027-07-26/
LOCATION:Virtual Session
CATEGORIES:Multi-Generational Advice
ATTACH;FMTTYPE=image/png:https://walkerwayland.com/wp-content/uploads/2024/07/WW_Multi-Gen.png
END:VEVENT
BEGIN:VEVENT
DTSTART;TZID=Australia/Sydney:20270802T110000
DTEND;TZID=Australia/Sydney:20270802T120000
DTSTAMP:20260425T004314
CREATED:20250519T032732Z
LAST-MODIFIED:20250715T033528Z
UID:10000294-1817204400-1817208000@walkerwayland.com
SUMMARY:Audit Collaboration Group Meeting
DESCRIPTION:Join the WWA Audit Leaders for our Monthly Audit Group Meeting\, where industry professionals come together to share insights\, discuss the latest trends\, and collaborate on best practices in auditing. 
URL:https://walkerwayland.com/event/audit-collaboration-group-meeting-4/2027-08-02/
LOCATION:Virtual Session
CATEGORIES:Audit
ATTACH;FMTTYPE=image/png:https://walkerwayland.com/wp-content/uploads/2024/07/WW_Audit.png
END:VEVENT
BEGIN:VEVENT
DTSTART;TZID=Australia/Sydney:20270805T110000
DTEND;TZID=Australia/Sydney:20270805T120000
DTSTAMP:20260425T004314
CREATED:20250519T032414Z
LAST-MODIFIED:20250715T034256Z
UID:10000354-1817463600-1817467200@walkerwayland.com
SUMMARY:Team Liaison Collaboration Group Meeting
DESCRIPTION:Join us for our Monthly Team Liaison Innovation Collaboration Group Meeting\, where professionals gather to enhance WWA team coordination and drive connection through effective collaboration. 
URL:https://walkerwayland.com/event/team-liaison-collaboration-group-meeting-5/2027-08-05/
LOCATION:Virtual Session
CATEGORIES:Team Liaison
ATTACH;FMTTYPE=image/png:https://walkerwayland.com/wp-content/uploads/2024/07/WW_Team-Liason.png
END:VEVENT
END:VCALENDAR