BEGIN:VCALENDAR
VERSION:2.0
PRODID:-//Walker Wayland Australasia - ECPv6.15.20//NONSGML v1.0//EN
CALSCALE:GREGORIAN
METHOD:PUBLISH
X-ORIGINAL-URL:https://walkerwayland.com
X-WR-CALDESC:Events for Walker Wayland Australasia
REFRESH-INTERVAL;VALUE=DURATION:PT1H
X-Robots-Tag:noindex
X-PUBLISHED-TTL:PT1H
BEGIN:VTIMEZONE
TZID:Australia/Sydney
BEGIN:STANDARD
TZOFFSETFROM:+1100
TZOFFSETTO:+1000
TZNAME:AEST
DTSTART:20250405T160000
END:STANDARD
BEGIN:DAYLIGHT
TZOFFSETFROM:+1000
TZOFFSETTO:+1100
TZNAME:AEDT
DTSTART:20251004T160000
END:DAYLIGHT
BEGIN:STANDARD
TZOFFSETFROM:+1100
TZOFFSETTO:+1000
TZNAME:AEST
DTSTART:20260404T160000
END:STANDARD
BEGIN:DAYLIGHT
TZOFFSETFROM:+1000
TZOFFSETTO:+1100
TZNAME:AEDT
DTSTART:20261003T160000
END:DAYLIGHT
BEGIN:STANDARD
TZOFFSETFROM:+1100
TZOFFSETTO:+1000
TZNAME:AEST
DTSTART:20270403T160000
END:STANDARD
BEGIN:DAYLIGHT
TZOFFSETFROM:+1000
TZOFFSETTO:+1100
TZNAME:AEDT
DTSTART:20271002T160000
END:DAYLIGHT
BEGIN:STANDARD
TZOFFSETFROM:+1100
TZOFFSETTO:+1000
TZNAME:AEST
DTSTART:20280401T160000
END:STANDARD
BEGIN:DAYLIGHT
TZOFFSETFROM:+1000
TZOFFSETTO:+1100
TZNAME:AEDT
DTSTART:20280930T160000
END:DAYLIGHT
END:VTIMEZONE
BEGIN:VEVENT
DTSTART;TZID=Australia/Sydney:20260916T110000
DTEND;TZID=Australia/Sydney:20260916T113000
DTSTAMP:20260425T004442
CREATED:20250519T033019Z
LAST-MODIFIED:20250715T033228Z
UID:10000108-1789556400-1789558200@walkerwayland.com
SUMMARY:Super and SMSF Collaboration Group Meeting
DESCRIPTION:Join the WWA Super and SMSF Leaders for our Monthly Super & SMSF Innovation Collaboration Group Meeting\, where professionals unite to discuss the latest developments and strategies in superannuation and self-managed super funds (SMSFs). 
URL:https://walkerwayland.com/event/super-and-smsf-collaboration-group-meeting-7/2026-09-16/
LOCATION:Virtual Session
CATEGORIES:Super and SMSF
ATTACH;FMTTYPE=image/png:https://walkerwayland.com/wp-content/uploads/2024/07/WW_Super.png
END:VEVENT
BEGIN:VEVENT
DTSTART;TZID=Australia/Sydney:20260917T130000
DTEND;TZID=Australia/Sydney:20260917T140000
DTSTAMP:20260425T004442
CREATED:20250519T033217Z
LAST-MODIFIED:20250715T033446Z
UID:10000224-1789650000-1789653600@walkerwayland.com
SUMMARY:Digital Innovation Collaboration Group Meeting
DESCRIPTION:Join us for our Monthly Digital Innovation Collaboration Group Meeting\, where forward-thinking professionals come together to discuss the latest advancements and trends in digital innovation. 
URL:https://walkerwayland.com/event/digital-innovation-collaboration-group-meeting-7/2026-09-17/
LOCATION:Virtual Session
CATEGORIES:Digital Innovation
ATTACH;FMTTYPE=image/png:https://walkerwayland.com/wp-content/uploads/2024/07/WW_Digital.png
END:VEVENT
BEGIN:VEVENT
DTSTART;TZID=Australia/Sydney:20260928T100000
DTEND;TZID=Australia/Sydney:20260928T110000
DTSTAMP:20260425T004442
CREATED:20260122T002011Z
LAST-MODIFIED:20260122T002152Z
UID:10000401-1790589600-1790593200@walkerwayland.com
SUMMARY:Multi-Generational Advice Group Meeting
DESCRIPTION:Join us for our Monthly Multi-Generational Advice Group Meeting\, where professionals gather to explore strategies and share insights on managing wealth across generations.  \n 
URL:https://walkerwayland.com/event/multi-generational-advice-group-meeting-8-3/2026-09-28/
LOCATION:Virtual Session
CATEGORIES:Multi-Generational Advice
ATTACH;FMTTYPE=image/png:https://walkerwayland.com/wp-content/uploads/2024/07/WW_Multi-Gen.png
END:VEVENT
BEGIN:VEVENT
DTSTART;TZID=Australia/Sydney:20261001T110000
DTEND;TZID=Australia/Sydney:20261001T120000
DTSTAMP:20260425T004442
CREATED:20250519T032414Z
LAST-MODIFIED:20250715T034256Z
UID:10000344-1790852400-1790856000@walkerwayland.com
SUMMARY:Team Liaison Collaboration Group Meeting
DESCRIPTION:Join us for our Monthly Team Liaison Innovation Collaboration Group Meeting\, where professionals gather to enhance WWA team coordination and drive connection through effective collaboration. 
URL:https://walkerwayland.com/event/team-liaison-collaboration-group-meeting-5/2026-10-01/
LOCATION:Virtual Session
CATEGORIES:Team Liaison
ATTACH;FMTTYPE=image/png:https://walkerwayland.com/wp-content/uploads/2024/07/WW_Team-Liason.png
END:VEVENT
BEGIN:VEVENT
DTSTART;TZID=Australia/Sydney:20261005T110000
DTEND;TZID=Australia/Sydney:20261005T120000
DTSTAMP:20260425T004442
CREATED:20250519T032732Z
LAST-MODIFIED:20250715T033528Z
UID:10000284-1791198000-1791201600@walkerwayland.com
SUMMARY:Audit Collaboration Group Meeting
DESCRIPTION:Join the WWA Audit Leaders for our Monthly Audit Group Meeting\, where industry professionals come together to share insights\, discuss the latest trends\, and collaborate on best practices in auditing. 
URL:https://walkerwayland.com/event/audit-collaboration-group-meeting-4/2026-10-05/
LOCATION:Virtual Session
CATEGORIES:Audit
ATTACH;FMTTYPE=image/png:https://walkerwayland.com/wp-content/uploads/2024/07/WW_Audit.png
END:VEVENT
BEGIN:VEVENT
DTSTART;TZID=Australia/Sydney:20261015T130000
DTEND;TZID=Australia/Sydney:20261015T140000
DTSTAMP:20260425T004442
CREATED:20250519T033217Z
LAST-MODIFIED:20250715T033446Z
UID:10000225-1792069200-1792072800@walkerwayland.com
SUMMARY:Digital Innovation Collaboration Group Meeting
DESCRIPTION:Join us for our Monthly Digital Innovation Collaboration Group Meeting\, where forward-thinking professionals come together to discuss the latest advancements and trends in digital innovation. 
URL:https://walkerwayland.com/event/digital-innovation-collaboration-group-meeting-7/2026-10-15/
LOCATION:Virtual Session
CATEGORIES:Digital Innovation
ATTACH;FMTTYPE=image/png:https://walkerwayland.com/wp-content/uploads/2024/07/WW_Digital.png
END:VEVENT
BEGIN:VEVENT
DTSTART;TZID=Australia/Sydney:20261021T110000
DTEND;TZID=Australia/Sydney:20261021T113000
DTSTAMP:20260425T004442
CREATED:20250519T033019Z
LAST-MODIFIED:20250715T033228Z
UID:10000109-1792580400-1792582200@walkerwayland.com
SUMMARY:Super and SMSF Collaboration Group Meeting
DESCRIPTION:Join the WWA Super and SMSF Leaders for our Monthly Super & SMSF Innovation Collaboration Group Meeting\, where professionals unite to discuss the latest developments and strategies in superannuation and self-managed super funds (SMSFs). 
URL:https://walkerwayland.com/event/super-and-smsf-collaboration-group-meeting-7/2026-10-21/
LOCATION:Virtual Session
CATEGORIES:Super and SMSF
ATTACH;FMTTYPE=image/png:https://walkerwayland.com/wp-content/uploads/2024/07/WW_Super.png
END:VEVENT
BEGIN:VEVENT
DTSTART;TZID=Australia/Sydney:20261102T110000
DTEND;TZID=Australia/Sydney:20261102T120000
DTSTAMP:20260425T004442
CREATED:20250519T032732Z
LAST-MODIFIED:20250715T033528Z
UID:10000285-1793617200-1793620800@walkerwayland.com
SUMMARY:Audit Collaboration Group Meeting
DESCRIPTION:Join the WWA Audit Leaders for our Monthly Audit Group Meeting\, where industry professionals come together to share insights\, discuss the latest trends\, and collaborate on best practices in auditing. 
URL:https://walkerwayland.com/event/audit-collaboration-group-meeting-4/2026-11-02/
LOCATION:Virtual Session
CATEGORIES:Audit
ATTACH;FMTTYPE=image/png:https://walkerwayland.com/wp-content/uploads/2024/07/WW_Audit.png
END:VEVENT
BEGIN:VEVENT
DTSTART;TZID=Australia/Sydney:20261105T110000
DTEND;TZID=Australia/Sydney:20261105T120000
DTSTAMP:20260425T004442
CREATED:20250519T032414Z
LAST-MODIFIED:20250715T034256Z
UID:10000345-1793876400-1793880000@walkerwayland.com
SUMMARY:Team Liaison Collaboration Group Meeting
DESCRIPTION:Join us for our Monthly Team Liaison Innovation Collaboration Group Meeting\, where professionals gather to enhance WWA team coordination and drive connection through effective collaboration. 
URL:https://walkerwayland.com/event/team-liaison-collaboration-group-meeting-5/2026-11-05/
LOCATION:Virtual Session
CATEGORIES:Team Liaison
ATTACH;FMTTYPE=image/png:https://walkerwayland.com/wp-content/uploads/2024/07/WW_Team-Liason.png
END:VEVENT
BEGIN:VEVENT
DTSTART;TZID=Australia/Sydney:20261118T110000
DTEND;TZID=Australia/Sydney:20261118T113000
DTSTAMP:20260425T004442
CREATED:20250519T033019Z
LAST-MODIFIED:20250715T033228Z
UID:10000110-1794999600-1795001400@walkerwayland.com
SUMMARY:Super and SMSF Collaboration Group Meeting
DESCRIPTION:Join the WWA Super and SMSF Leaders for our Monthly Super & SMSF Innovation Collaboration Group Meeting\, where professionals unite to discuss the latest developments and strategies in superannuation and self-managed super funds (SMSFs). 
URL:https://walkerwayland.com/event/super-and-smsf-collaboration-group-meeting-7/2026-11-18/
LOCATION:Virtual Session
CATEGORIES:Super and SMSF
ATTACH;FMTTYPE=image/png:https://walkerwayland.com/wp-content/uploads/2024/07/WW_Super.png
END:VEVENT
BEGIN:VEVENT
DTSTART;TZID=Australia/Sydney:20261119T130000
DTEND;TZID=Australia/Sydney:20261119T140000
DTSTAMP:20260425T004442
CREATED:20250519T033217Z
LAST-MODIFIED:20250715T033446Z
UID:10000226-1795093200-1795096800@walkerwayland.com
SUMMARY:Digital Innovation Collaboration Group Meeting
DESCRIPTION:Join us for our Monthly Digital Innovation Collaboration Group Meeting\, where forward-thinking professionals come together to discuss the latest advancements and trends in digital innovation. 
URL:https://walkerwayland.com/event/digital-innovation-collaboration-group-meeting-7/2026-11-19/
LOCATION:Virtual Session
CATEGORIES:Digital Innovation
ATTACH;FMTTYPE=image/png:https://walkerwayland.com/wp-content/uploads/2024/07/WW_Digital.png
END:VEVENT
BEGIN:VEVENT
DTSTART;TZID=Australia/Sydney:20261123T100000
DTEND;TZID=Australia/Sydney:20261123T110000
DTSTAMP:20260425T004442
CREATED:20260122T002011Z
LAST-MODIFIED:20260122T002152Z
UID:10000402-1795428000-1795431600@walkerwayland.com
SUMMARY:Multi-Generational Advice Group Meeting
DESCRIPTION:Join us for our Monthly Multi-Generational Advice Group Meeting\, where professionals gather to explore strategies and share insights on managing wealth across generations.  \n 
URL:https://walkerwayland.com/event/multi-generational-advice-group-meeting-8-3/2026-11-23/
LOCATION:Virtual Session
CATEGORIES:Multi-Generational Advice
ATTACH;FMTTYPE=image/png:https://walkerwayland.com/wp-content/uploads/2024/07/WW_Multi-Gen.png
END:VEVENT
BEGIN:VEVENT
DTSTART;TZID=Australia/Sydney:20261203T110000
DTEND;TZID=Australia/Sydney:20261203T120000
DTSTAMP:20260425T004442
CREATED:20250519T032414Z
LAST-MODIFIED:20250715T034256Z
UID:10000346-1796295600-1796299200@walkerwayland.com
SUMMARY:Team Liaison Collaboration Group Meeting
DESCRIPTION:Join us for our Monthly Team Liaison Innovation Collaboration Group Meeting\, where professionals gather to enhance WWA team coordination and drive connection through effective collaboration. 
URL:https://walkerwayland.com/event/team-liaison-collaboration-group-meeting-5/2026-12-03/
LOCATION:Virtual Session
CATEGORIES:Team Liaison
ATTACH;FMTTYPE=image/png:https://walkerwayland.com/wp-content/uploads/2024/07/WW_Team-Liason.png
END:VEVENT
BEGIN:VEVENT
DTSTART;TZID=Australia/Sydney:20261207T110000
DTEND;TZID=Australia/Sydney:20261207T120000
DTSTAMP:20260425T004442
CREATED:20250519T032732Z
LAST-MODIFIED:20250715T033528Z
UID:10000286-1796641200-1796644800@walkerwayland.com
SUMMARY:Audit Collaboration Group Meeting
DESCRIPTION:Join the WWA Audit Leaders for our Monthly Audit Group Meeting\, where industry professionals come together to share insights\, discuss the latest trends\, and collaborate on best practices in auditing. 
URL:https://walkerwayland.com/event/audit-collaboration-group-meeting-4/2026-12-07/
LOCATION:Virtual Session
CATEGORIES:Audit
ATTACH;FMTTYPE=image/png:https://walkerwayland.com/wp-content/uploads/2024/07/WW_Audit.png
END:VEVENT
BEGIN:VEVENT
DTSTART;TZID=Australia/Sydney:20261216T110000
DTEND;TZID=Australia/Sydney:20261216T113000
DTSTAMP:20260425T004442
CREATED:20250519T033019Z
LAST-MODIFIED:20250715T033228Z
UID:10000111-1797418800-1797420600@walkerwayland.com
SUMMARY:Super and SMSF Collaboration Group Meeting
DESCRIPTION:Join the WWA Super and SMSF Leaders for our Monthly Super & SMSF Innovation Collaboration Group Meeting\, where professionals unite to discuss the latest developments and strategies in superannuation and self-managed super funds (SMSFs). 
URL:https://walkerwayland.com/event/super-and-smsf-collaboration-group-meeting-7/2026-12-16/
LOCATION:Virtual Session
CATEGORIES:Super and SMSF
ATTACH;FMTTYPE=image/png:https://walkerwayland.com/wp-content/uploads/2024/07/WW_Super.png
END:VEVENT
BEGIN:VEVENT
DTSTART;TZID=Australia/Sydney:20261217T130000
DTEND;TZID=Australia/Sydney:20261217T140000
DTSTAMP:20260425T004442
CREATED:20250519T033217Z
LAST-MODIFIED:20250715T033446Z
UID:10000227-1797512400-1797516000@walkerwayland.com
SUMMARY:Digital Innovation Collaboration Group Meeting
DESCRIPTION:Join us for our Monthly Digital Innovation Collaboration Group Meeting\, where forward-thinking professionals come together to discuss the latest advancements and trends in digital innovation. 
URL:https://walkerwayland.com/event/digital-innovation-collaboration-group-meeting-7/2026-12-17/
LOCATION:Virtual Session
CATEGORIES:Digital Innovation
ATTACH;FMTTYPE=image/png:https://walkerwayland.com/wp-content/uploads/2024/07/WW_Digital.png
END:VEVENT
BEGIN:VEVENT
DTSTART;TZID=Australia/Sydney:20270104T110000
DTEND;TZID=Australia/Sydney:20270104T120000
DTSTAMP:20260425T004442
CREATED:20250519T032732Z
LAST-MODIFIED:20250715T033528Z
UID:10000287-1799060400-1799064000@walkerwayland.com
SUMMARY:Audit Collaboration Group Meeting
DESCRIPTION:Join the WWA Audit Leaders for our Monthly Audit Group Meeting\, where industry professionals come together to share insights\, discuss the latest trends\, and collaborate on best practices in auditing. 
URL:https://walkerwayland.com/event/audit-collaboration-group-meeting-4/2027-01-04/
LOCATION:Virtual Session
CATEGORIES:Audit
ATTACH;FMTTYPE=image/png:https://walkerwayland.com/wp-content/uploads/2024/07/WW_Audit.png
END:VEVENT
BEGIN:VEVENT
DTSTART;TZID=Australia/Sydney:20270107T110000
DTEND;TZID=Australia/Sydney:20270107T120000
DTSTAMP:20260425T004442
CREATED:20250519T032414Z
LAST-MODIFIED:20250715T034256Z
UID:10000347-1799319600-1799323200@walkerwayland.com
SUMMARY:Team Liaison Collaboration Group Meeting
DESCRIPTION:Join us for our Monthly Team Liaison Innovation Collaboration Group Meeting\, where professionals gather to enhance WWA team coordination and drive connection through effective collaboration. 
URL:https://walkerwayland.com/event/team-liaison-collaboration-group-meeting-5/2027-01-07/
LOCATION:Virtual Session
CATEGORIES:Team Liaison
ATTACH;FMTTYPE=image/png:https://walkerwayland.com/wp-content/uploads/2024/07/WW_Team-Liason.png
END:VEVENT
BEGIN:VEVENT
DTSTART;TZID=Australia/Sydney:20270120T110000
DTEND;TZID=Australia/Sydney:20270120T113000
DTSTAMP:20260425T004442
CREATED:20250519T033019Z
LAST-MODIFIED:20250715T033228Z
UID:10000112-1800442800-1800444600@walkerwayland.com
SUMMARY:Super and SMSF Collaboration Group Meeting
DESCRIPTION:Join the WWA Super and SMSF Leaders for our Monthly Super & SMSF Innovation Collaboration Group Meeting\, where professionals unite to discuss the latest developments and strategies in superannuation and self-managed super funds (SMSFs). 
URL:https://walkerwayland.com/event/super-and-smsf-collaboration-group-meeting-7/2027-01-20/
LOCATION:Virtual Session
CATEGORIES:Super and SMSF
ATTACH;FMTTYPE=image/png:https://walkerwayland.com/wp-content/uploads/2024/07/WW_Super.png
END:VEVENT
BEGIN:VEVENT
DTSTART;TZID=Australia/Sydney:20270121T130000
DTEND;TZID=Australia/Sydney:20270121T140000
DTSTAMP:20260425T004442
CREATED:20250519T033217Z
LAST-MODIFIED:20250715T033446Z
UID:10000228-1800536400-1800540000@walkerwayland.com
SUMMARY:Digital Innovation Collaboration Group Meeting
DESCRIPTION:Join us for our Monthly Digital Innovation Collaboration Group Meeting\, where forward-thinking professionals come together to discuss the latest advancements and trends in digital innovation. 
URL:https://walkerwayland.com/event/digital-innovation-collaboration-group-meeting-7/2027-01-21/
LOCATION:Virtual Session
CATEGORIES:Digital Innovation
ATTACH;FMTTYPE=image/png:https://walkerwayland.com/wp-content/uploads/2024/07/WW_Digital.png
END:VEVENT
BEGIN:VEVENT
DTSTART;TZID=Australia/Sydney:20270125T100000
DTEND;TZID=Australia/Sydney:20270125T110000
DTSTAMP:20260425T004442
CREATED:20260122T002011Z
LAST-MODIFIED:20260122T002152Z
UID:10000403-1800871200-1800874800@walkerwayland.com
SUMMARY:Multi-Generational Advice Group Meeting
DESCRIPTION:Join us for our Monthly Multi-Generational Advice Group Meeting\, where professionals gather to explore strategies and share insights on managing wealth across generations.  \n 
URL:https://walkerwayland.com/event/multi-generational-advice-group-meeting-8-3/2027-01-25/
LOCATION:Virtual Session
CATEGORIES:Multi-Generational Advice
ATTACH;FMTTYPE=image/png:https://walkerwayland.com/wp-content/uploads/2024/07/WW_Multi-Gen.png
END:VEVENT
BEGIN:VEVENT
DTSTART;TZID=Australia/Sydney:20270201T110000
DTEND;TZID=Australia/Sydney:20270201T120000
DTSTAMP:20260425T004442
CREATED:20250519T032732Z
LAST-MODIFIED:20250715T033528Z
UID:10000288-1801479600-1801483200@walkerwayland.com
SUMMARY:Audit Collaboration Group Meeting
DESCRIPTION:Join the WWA Audit Leaders for our Monthly Audit Group Meeting\, where industry professionals come together to share insights\, discuss the latest trends\, and collaborate on best practices in auditing. 
URL:https://walkerwayland.com/event/audit-collaboration-group-meeting-4/2027-02-01/
LOCATION:Virtual Session
CATEGORIES:Audit
ATTACH;FMTTYPE=image/png:https://walkerwayland.com/wp-content/uploads/2024/07/WW_Audit.png
END:VEVENT
BEGIN:VEVENT
DTSTART;TZID=Australia/Sydney:20270204T110000
DTEND;TZID=Australia/Sydney:20270204T120000
DTSTAMP:20260425T004442
CREATED:20250519T032414Z
LAST-MODIFIED:20250715T034256Z
UID:10000348-1801738800-1801742400@walkerwayland.com
SUMMARY:Team Liaison Collaboration Group Meeting
DESCRIPTION:Join us for our Monthly Team Liaison Innovation Collaboration Group Meeting\, where professionals gather to enhance WWA team coordination and drive connection through effective collaboration. 
URL:https://walkerwayland.com/event/team-liaison-collaboration-group-meeting-5/2027-02-04/
LOCATION:Virtual Session
CATEGORIES:Team Liaison
ATTACH;FMTTYPE=image/png:https://walkerwayland.com/wp-content/uploads/2024/07/WW_Team-Liason.png
END:VEVENT
BEGIN:VEVENT
DTSTART;TZID=Australia/Sydney:20270217T110000
DTEND;TZID=Australia/Sydney:20270217T113000
DTSTAMP:20260425T004442
CREATED:20250519T033019Z
LAST-MODIFIED:20250715T033228Z
UID:10000113-1802862000-1802863800@walkerwayland.com
SUMMARY:Super and SMSF Collaboration Group Meeting
DESCRIPTION:Join the WWA Super and SMSF Leaders for our Monthly Super & SMSF Innovation Collaboration Group Meeting\, where professionals unite to discuss the latest developments and strategies in superannuation and self-managed super funds (SMSFs). 
URL:https://walkerwayland.com/event/super-and-smsf-collaboration-group-meeting-7/2027-02-17/
LOCATION:Virtual Session
CATEGORIES:Super and SMSF
ATTACH;FMTTYPE=image/png:https://walkerwayland.com/wp-content/uploads/2024/07/WW_Super.png
END:VEVENT
BEGIN:VEVENT
DTSTART;TZID=Australia/Sydney:20270218T130000
DTEND;TZID=Australia/Sydney:20270218T140000
DTSTAMP:20260425T004442
CREATED:20250519T033217Z
LAST-MODIFIED:20250715T033446Z
UID:10000229-1802955600-1802959200@walkerwayland.com
SUMMARY:Digital Innovation Collaboration Group Meeting
DESCRIPTION:Join us for our Monthly Digital Innovation Collaboration Group Meeting\, where forward-thinking professionals come together to discuss the latest advancements and trends in digital innovation. 
URL:https://walkerwayland.com/event/digital-innovation-collaboration-group-meeting-7/2027-02-18/
LOCATION:Virtual Session
CATEGORIES:Digital Innovation
ATTACH;FMTTYPE=image/png:https://walkerwayland.com/wp-content/uploads/2024/07/WW_Digital.png
END:VEVENT
BEGIN:VEVENT
DTSTART;TZID=Australia/Sydney:20270301T110000
DTEND;TZID=Australia/Sydney:20270301T120000
DTSTAMP:20260425T004442
CREATED:20250519T032732Z
LAST-MODIFIED:20250715T033528Z
UID:10000289-1803898800-1803902400@walkerwayland.com
SUMMARY:Audit Collaboration Group Meeting
DESCRIPTION:Join the WWA Audit Leaders for our Monthly Audit Group Meeting\, where industry professionals come together to share insights\, discuss the latest trends\, and collaborate on best practices in auditing. 
URL:https://walkerwayland.com/event/audit-collaboration-group-meeting-4/2027-03-01/
LOCATION:Virtual Session
CATEGORIES:Audit
ATTACH;FMTTYPE=image/png:https://walkerwayland.com/wp-content/uploads/2024/07/WW_Audit.png
END:VEVENT
BEGIN:VEVENT
DTSTART;TZID=Australia/Sydney:20270304T110000
DTEND;TZID=Australia/Sydney:20270304T120000
DTSTAMP:20260425T004442
CREATED:20250519T032414Z
LAST-MODIFIED:20250715T034256Z
UID:10000349-1804158000-1804161600@walkerwayland.com
SUMMARY:Team Liaison Collaboration Group Meeting
DESCRIPTION:Join us for our Monthly Team Liaison Innovation Collaboration Group Meeting\, where professionals gather to enhance WWA team coordination and drive connection through effective collaboration. 
URL:https://walkerwayland.com/event/team-liaison-collaboration-group-meeting-5/2027-03-04/
LOCATION:Virtual Session
CATEGORIES:Team Liaison
ATTACH;FMTTYPE=image/png:https://walkerwayland.com/wp-content/uploads/2024/07/WW_Team-Liason.png
END:VEVENT
BEGIN:VEVENT
DTSTART;TZID=Australia/Sydney:20270317T110000
DTEND;TZID=Australia/Sydney:20270317T113000
DTSTAMP:20260425T004442
CREATED:20250519T033019Z
LAST-MODIFIED:20250715T033228Z
UID:10000114-1805281200-1805283000@walkerwayland.com
SUMMARY:Super and SMSF Collaboration Group Meeting
DESCRIPTION:Join the WWA Super and SMSF Leaders for our Monthly Super & SMSF Innovation Collaboration Group Meeting\, where professionals unite to discuss the latest developments and strategies in superannuation and self-managed super funds (SMSFs). 
URL:https://walkerwayland.com/event/super-and-smsf-collaboration-group-meeting-7/2027-03-17/
LOCATION:Virtual Session
CATEGORIES:Super and SMSF
ATTACH;FMTTYPE=image/png:https://walkerwayland.com/wp-content/uploads/2024/07/WW_Super.png
END:VEVENT
BEGIN:VEVENT
DTSTART;TZID=Australia/Sydney:20270318T130000
DTEND;TZID=Australia/Sydney:20270318T140000
DTSTAMP:20260425T004442
CREATED:20250519T033217Z
LAST-MODIFIED:20250715T033446Z
UID:10000230-1805374800-1805378400@walkerwayland.com
SUMMARY:Digital Innovation Collaboration Group Meeting
DESCRIPTION:Join us for our Monthly Digital Innovation Collaboration Group Meeting\, where forward-thinking professionals come together to discuss the latest advancements and trends in digital innovation. 
URL:https://walkerwayland.com/event/digital-innovation-collaboration-group-meeting-7/2027-03-18/
LOCATION:Virtual Session
CATEGORIES:Digital Innovation
ATTACH;FMTTYPE=image/png:https://walkerwayland.com/wp-content/uploads/2024/07/WW_Digital.png
END:VEVENT
BEGIN:VEVENT
DTSTART;TZID=Australia/Sydney:20270322T100000
DTEND;TZID=Australia/Sydney:20270322T110000
DTSTAMP:20260425T004442
CREATED:20260122T002011Z
LAST-MODIFIED:20260122T002152Z
UID:10000404-1805709600-1805713200@walkerwayland.com
SUMMARY:Multi-Generational Advice Group Meeting
DESCRIPTION:Join us for our Monthly Multi-Generational Advice Group Meeting\, where professionals gather to explore strategies and share insights on managing wealth across generations.  \n 
URL:https://walkerwayland.com/event/multi-generational-advice-group-meeting-8-3/2027-03-22/
LOCATION:Virtual Session
CATEGORIES:Multi-Generational Advice
ATTACH;FMTTYPE=image/png:https://walkerwayland.com/wp-content/uploads/2024/07/WW_Multi-Gen.png
END:VEVENT
END:VCALENDAR