BEGIN:VCALENDAR
VERSION:2.0
PRODID:-//Walker Wayland Australasia - ECPv6.15.20//NONSGML v1.0//EN
CALSCALE:GREGORIAN
METHOD:PUBLISH
X-WR-CALNAME:Walker Wayland Australasia
X-ORIGINAL-URL:https://walkerwayland.com
X-WR-CALDESC:Events for Walker Wayland Australasia
REFRESH-INTERVAL;VALUE=DURATION:PT1H
X-Robots-Tag:noindex
X-PUBLISHED-TTL:PT1H
BEGIN:VTIMEZONE
TZID:Australia/Sydney
BEGIN:STANDARD
TZOFFSETFROM:+1100
TZOFFSETTO:+1000
TZNAME:AEST
DTSTART:20240406T160000
END:STANDARD
BEGIN:DAYLIGHT
TZOFFSETFROM:+1000
TZOFFSETTO:+1100
TZNAME:AEDT
DTSTART:20241005T160000
END:DAYLIGHT
BEGIN:STANDARD
TZOFFSETFROM:+1100
TZOFFSETTO:+1000
TZNAME:AEST
DTSTART:20250405T160000
END:STANDARD
BEGIN:DAYLIGHT
TZOFFSETFROM:+1000
TZOFFSETTO:+1100
TZNAME:AEDT
DTSTART:20251004T160000
END:DAYLIGHT
BEGIN:STANDARD
TZOFFSETFROM:+1100
TZOFFSETTO:+1000
TZNAME:AEST
DTSTART:20260404T160000
END:STANDARD
BEGIN:DAYLIGHT
TZOFFSETFROM:+1000
TZOFFSETTO:+1100
TZNAME:AEDT
DTSTART:20261003T160000
END:DAYLIGHT
BEGIN:STANDARD
TZOFFSETFROM:+1100
TZOFFSETTO:+1000
TZNAME:AEST
DTSTART:20270403T160000
END:STANDARD
BEGIN:DAYLIGHT
TZOFFSETFROM:+1000
TZOFFSETTO:+1100
TZNAME:AEDT
DTSTART:20271002T160000
END:DAYLIGHT
END:VTIMEZONE
BEGIN:VTIMEZONE
TZID:Pacific/Fiji
BEGIN:STANDARD
TZOFFSETFROM:+1200
TZOFFSETTO:+1200
TZNAME:+12
DTSTART:20250101T000000
END:STANDARD
END:VTIMEZONE
BEGIN:VEVENT
DTSTART;TZID=Australia/Sydney:20260416T130000
DTEND;TZID=Australia/Sydney:20260416T140000
DTSTAMP:20260425T005310
CREATED:20250519T033217Z
LAST-MODIFIED:20250715T033446Z
UID:10000219-1776344400-1776348000@walkerwayland.com
SUMMARY:Digital Innovation Collaboration Group Meeting
DESCRIPTION:Join us for our Monthly Digital Innovation Collaboration Group Meeting\, where forward-thinking professionals come together to discuss the latest advancements and trends in digital innovation. 
URL:https://walkerwayland.com/event/digital-innovation-collaboration-group-meeting-7/2026-04-16/
LOCATION:Virtual Session
CATEGORIES:Digital Innovation
ATTACH;FMTTYPE=image/png:https://walkerwayland.com/wp-content/uploads/2024/07/WW_Digital.png
END:VEVENT
BEGIN:VEVENT
DTSTART;TZID=Australia/Sydney:20260415T110000
DTEND;TZID=Australia/Sydney:20260415T113000
DTSTAMP:20260425T005310
CREATED:20250519T033019Z
LAST-MODIFIED:20250715T033228Z
UID:10000103-1776250800-1776252600@walkerwayland.com
SUMMARY:Super and SMSF Collaboration Group Meeting
DESCRIPTION:Join the WWA Super and SMSF Leaders for our Monthly Super & SMSF Innovation Collaboration Group Meeting\, where professionals unite to discuss the latest developments and strategies in superannuation and self-managed super funds (SMSFs). 
URL:https://walkerwayland.com/event/super-and-smsf-collaboration-group-meeting-7/2026-04-15/
LOCATION:Virtual Session
CATEGORIES:Super and SMSF
ATTACH;FMTTYPE=image/png:https://walkerwayland.com/wp-content/uploads/2024/07/WW_Super.png
END:VEVENT
BEGIN:VEVENT
DTSTART;TZID=Australia/Sydney:20260406T110000
DTEND;TZID=Australia/Sydney:20260406T120000
DTSTAMP:20260425T005310
CREATED:20250519T032732Z
LAST-MODIFIED:20250715T033528Z
UID:10000278-1775473200-1775476800@walkerwayland.com
SUMMARY:Audit Collaboration Group Meeting
DESCRIPTION:Join the WWA Audit Leaders for our Monthly Audit Group Meeting\, where industry professionals come together to share insights\, discuss the latest trends\, and collaborate on best practices in auditing. 
URL:https://walkerwayland.com/event/audit-collaboration-group-meeting-4/2026-04-06/
LOCATION:Virtual Session
CATEGORIES:Audit
ATTACH;FMTTYPE=image/png:https://walkerwayland.com/wp-content/uploads/2024/07/WW_Audit.png
END:VEVENT
BEGIN:VEVENT
DTSTART;TZID=Australia/Sydney:20260402T110000
DTEND;TZID=Australia/Sydney:20260402T120000
DTSTAMP:20260425T005310
CREATED:20250519T032414Z
LAST-MODIFIED:20250715T034256Z
UID:10000338-1775127600-1775131200@walkerwayland.com
SUMMARY:Team Liaison Collaboration Group Meeting
DESCRIPTION:Join us for our Monthly Team Liaison Innovation Collaboration Group Meeting\, where professionals gather to enhance WWA team coordination and drive connection through effective collaboration. 
URL:https://walkerwayland.com/event/team-liaison-collaboration-group-meeting-5/2026-04-02/
LOCATION:Virtual Session
CATEGORIES:Team Liaison
ATTACH;FMTTYPE=image/png:https://walkerwayland.com/wp-content/uploads/2024/07/WW_Team-Liason.png
END:VEVENT
BEGIN:VEVENT
DTSTART;TZID=Australia/Sydney:20260323T100000
DTEND;TZID=Australia/Sydney:20260323T110000
DTSTAMP:20260425T005310
CREATED:20260122T002011Z
LAST-MODIFIED:20260122T002152Z
UID:10000398-1774260000-1774263600@walkerwayland.com
SUMMARY:Multi-Generational Advice Group Meeting
DESCRIPTION:Join us for our Monthly Multi-Generational Advice Group Meeting\, where professionals gather to explore strategies and share insights on managing wealth across generations.  \n 
URL:https://walkerwayland.com/event/multi-generational-advice-group-meeting-8-3/2026-03-23/
LOCATION:Virtual Session
CATEGORIES:Multi-Generational Advice
ATTACH;FMTTYPE=image/png:https://walkerwayland.com/wp-content/uploads/2024/07/WW_Multi-Gen.png
END:VEVENT
BEGIN:VEVENT
DTSTART;TZID=Australia/Sydney:20260319T130000
DTEND;TZID=Australia/Sydney:20260319T140000
DTSTAMP:20260425T005310
CREATED:20250519T033217Z
LAST-MODIFIED:20250715T033446Z
UID:10000218-1773925200-1773928800@walkerwayland.com
SUMMARY:Digital Innovation Collaboration Group Meeting
DESCRIPTION:Join us for our Monthly Digital Innovation Collaboration Group Meeting\, where forward-thinking professionals come together to discuss the latest advancements and trends in digital innovation. 
URL:https://walkerwayland.com/event/digital-innovation-collaboration-group-meeting-7/2026-03-19/
LOCATION:Virtual Session
CATEGORIES:Digital Innovation
ATTACH;FMTTYPE=image/png:https://walkerwayland.com/wp-content/uploads/2024/07/WW_Digital.png
END:VEVENT
BEGIN:VEVENT
DTSTART;TZID=Australia/Sydney:20260318T110000
DTEND;TZID=Australia/Sydney:20260318T113000
DTSTAMP:20260425T005310
CREATED:20250519T033019Z
LAST-MODIFIED:20250715T033228Z
UID:10000102-1773831600-1773833400@walkerwayland.com
SUMMARY:Super and SMSF Collaboration Group Meeting
DESCRIPTION:Join the WWA Super and SMSF Leaders for our Monthly Super & SMSF Innovation Collaboration Group Meeting\, where professionals unite to discuss the latest developments and strategies in superannuation and self-managed super funds (SMSFs). 
URL:https://walkerwayland.com/event/super-and-smsf-collaboration-group-meeting-7/2026-03-18/
LOCATION:Virtual Session
CATEGORIES:Super and SMSF
ATTACH;FMTTYPE=image/png:https://walkerwayland.com/wp-content/uploads/2024/07/WW_Super.png
END:VEVENT
BEGIN:VEVENT
DTSTART;TZID=Australia/Sydney:20260305T110000
DTEND;TZID=Australia/Sydney:20260305T120000
DTSTAMP:20260425T005310
CREATED:20250519T032414Z
LAST-MODIFIED:20250715T034256Z
UID:10000337-1772708400-1772712000@walkerwayland.com
SUMMARY:Team Liaison Collaboration Group Meeting
DESCRIPTION:Join us for our Monthly Team Liaison Innovation Collaboration Group Meeting\, where professionals gather to enhance WWA team coordination and drive connection through effective collaboration. 
URL:https://walkerwayland.com/event/team-liaison-collaboration-group-meeting-5/2026-03-05/
LOCATION:Virtual Session
CATEGORIES:Team Liaison
ATTACH;FMTTYPE=image/png:https://walkerwayland.com/wp-content/uploads/2024/07/WW_Team-Liason.png
END:VEVENT
BEGIN:VEVENT
DTSTART;TZID=Australia/Sydney:20260302T110000
DTEND;TZID=Australia/Sydney:20260302T120000
DTSTAMP:20260425T005310
CREATED:20250519T032732Z
LAST-MODIFIED:20250715T033528Z
UID:10000277-1772449200-1772452800@walkerwayland.com
SUMMARY:Audit Collaboration Group Meeting
DESCRIPTION:Join the WWA Audit Leaders for our Monthly Audit Group Meeting\, where industry professionals come together to share insights\, discuss the latest trends\, and collaborate on best practices in auditing. 
URL:https://walkerwayland.com/event/audit-collaboration-group-meeting-4/2026-03-02/
LOCATION:Virtual Session
CATEGORIES:Audit
ATTACH;FMTTYPE=image/png:https://walkerwayland.com/wp-content/uploads/2024/07/WW_Audit.png
END:VEVENT
BEGIN:VEVENT
DTSTART;TZID=Pacific/Fiji:20260226T080000
DTEND;TZID=Pacific/Fiji:20260228T160000
DTSTAMP:20260425T005310
CREATED:20250327T015100Z
LAST-MODIFIED:20251020T062408Z
UID:10000064-1772092800-1772294400@walkerwayland.com
SUMMARY:WWA Annual Conference
DESCRIPTION:Our Annual Conference provides an opportunity to come together\, as an association\, to engage\, collaborate\, learn\, and foster leading-edge thought. 
URL:https://walkerwayland.com/event/wwa-annual-conference/
LOCATION:Fiji\, Denarau Island\, Nadi\, Fiji
CATEGORIES:Annual Conference
ATTACH;FMTTYPE=image/png:https://walkerwayland.com/wp-content/uploads/2025/03/Fiji-for-Web-480-x-320-px.png
END:VEVENT
BEGIN:VEVENT
DTSTART;TZID=Australia/Sydney:20260219T130000
DTEND;TZID=Australia/Sydney:20260219T140000
DTSTAMP:20260425T005310
CREATED:20250519T033217Z
LAST-MODIFIED:20250715T033446Z
UID:10000217-1771506000-1771509600@walkerwayland.com
SUMMARY:Digital Innovation Collaboration Group Meeting
DESCRIPTION:Join us for our Monthly Digital Innovation Collaboration Group Meeting\, where forward-thinking professionals come together to discuss the latest advancements and trends in digital innovation. 
URL:https://walkerwayland.com/event/digital-innovation-collaboration-group-meeting-7/2026-02-19/
LOCATION:Virtual Session
CATEGORIES:Digital Innovation
ATTACH;FMTTYPE=image/png:https://walkerwayland.com/wp-content/uploads/2024/07/WW_Digital.png
END:VEVENT
BEGIN:VEVENT
DTSTART;TZID=Australia/Sydney:20260218T110000
DTEND;TZID=Australia/Sydney:20260218T113000
DTSTAMP:20260425T005310
CREATED:20250519T033019Z
LAST-MODIFIED:20250715T033228Z
UID:10000101-1771412400-1771414200@walkerwayland.com
SUMMARY:Super and SMSF Collaboration Group Meeting
DESCRIPTION:Join the WWA Super and SMSF Leaders for our Monthly Super & SMSF Innovation Collaboration Group Meeting\, where professionals unite to discuss the latest developments and strategies in superannuation and self-managed super funds (SMSFs). 
URL:https://walkerwayland.com/event/super-and-smsf-collaboration-group-meeting-7/2026-02-18/
LOCATION:Virtual Session
CATEGORIES:Super and SMSF
ATTACH;FMTTYPE=image/png:https://walkerwayland.com/wp-content/uploads/2024/07/WW_Super.png
END:VEVENT
BEGIN:VEVENT
DTSTART;TZID=Australia/Sydney:20260205T110000
DTEND;TZID=Australia/Sydney:20260205T120000
DTSTAMP:20260425T005310
CREATED:20250519T032414Z
LAST-MODIFIED:20250715T034256Z
UID:10000336-1770289200-1770292800@walkerwayland.com
SUMMARY:Team Liaison Collaboration Group Meeting
DESCRIPTION:Join us for our Monthly Team Liaison Innovation Collaboration Group Meeting\, where professionals gather to enhance WWA team coordination and drive connection through effective collaboration. 
URL:https://walkerwayland.com/event/team-liaison-collaboration-group-meeting-5/2026-02-05/
LOCATION:Virtual Session
CATEGORIES:Team Liaison
ATTACH;FMTTYPE=image/png:https://walkerwayland.com/wp-content/uploads/2024/07/WW_Team-Liason.png
END:VEVENT
BEGIN:VEVENT
DTSTART;TZID=Australia/Sydney:20260202T110000
DTEND;TZID=Australia/Sydney:20260202T120000
DTSTAMP:20260425T005310
CREATED:20250519T032732Z
LAST-MODIFIED:20250715T033528Z
UID:10000276-1770030000-1770033600@walkerwayland.com
SUMMARY:Audit Collaboration Group Meeting
DESCRIPTION:Join the WWA Audit Leaders for our Monthly Audit Group Meeting\, where industry professionals come together to share insights\, discuss the latest trends\, and collaborate on best practices in auditing. 
URL:https://walkerwayland.com/event/audit-collaboration-group-meeting-4/2026-02-02/
LOCATION:Virtual Session
CATEGORIES:Audit
ATTACH;FMTTYPE=image/png:https://walkerwayland.com/wp-content/uploads/2024/07/WW_Audit.png
END:VEVENT
BEGIN:VEVENT
DTSTART;TZID=Australia/Sydney:20260121T110000
DTEND;TZID=Australia/Sydney:20260121T113000
DTSTAMP:20260425T005310
CREATED:20250519T033019Z
LAST-MODIFIED:20250715T033228Z
UID:10000100-1768993200-1768995000@walkerwayland.com
SUMMARY:Super and SMSF Collaboration Group Meeting
DESCRIPTION:Join the WWA Super and SMSF Leaders for our Monthly Super & SMSF Innovation Collaboration Group Meeting\, where professionals unite to discuss the latest developments and strategies in superannuation and self-managed super funds (SMSFs). 
URL:https://walkerwayland.com/event/super-and-smsf-collaboration-group-meeting-7/2026-01-21/
LOCATION:Virtual Session
CATEGORIES:Super and SMSF
ATTACH;FMTTYPE=image/png:https://walkerwayland.com/wp-content/uploads/2024/07/WW_Super.png
END:VEVENT
BEGIN:VEVENT
DTSTART;TZID=Australia/Sydney:20260115T130000
DTEND;TZID=Australia/Sydney:20260115T140000
DTSTAMP:20260425T005310
CREATED:20250519T033217Z
LAST-MODIFIED:20250715T033446Z
UID:10000216-1768482000-1768485600@walkerwayland.com
SUMMARY:Digital Innovation Collaboration Group Meeting
DESCRIPTION:Join us for our Monthly Digital Innovation Collaboration Group Meeting\, where forward-thinking professionals come together to discuss the latest advancements and trends in digital innovation. 
URL:https://walkerwayland.com/event/digital-innovation-collaboration-group-meeting-7/2026-01-15/
LOCATION:Virtual Session
CATEGORIES:Digital Innovation
ATTACH;FMTTYPE=image/png:https://walkerwayland.com/wp-content/uploads/2024/07/WW_Digital.png
END:VEVENT
BEGIN:VEVENT
DTSTART;TZID=Australia/Sydney:20260105T110000
DTEND;TZID=Australia/Sydney:20260105T120000
DTSTAMP:20260425T005310
CREATED:20250519T032732Z
LAST-MODIFIED:20250715T033528Z
UID:10000275-1767610800-1767614400@walkerwayland.com
SUMMARY:Audit Collaboration Group Meeting
DESCRIPTION:Join the WWA Audit Leaders for our Monthly Audit Group Meeting\, where industry professionals come together to share insights\, discuss the latest trends\, and collaborate on best practices in auditing. 
URL:https://walkerwayland.com/event/audit-collaboration-group-meeting-4/2026-01-05/
LOCATION:Virtual Session
CATEGORIES:Audit
ATTACH;FMTTYPE=image/png:https://walkerwayland.com/wp-content/uploads/2024/07/WW_Audit.png
END:VEVENT
BEGIN:VEVENT
DTSTART;TZID=Australia/Sydney:20260101T110000
DTEND;TZID=Australia/Sydney:20260101T120000
DTSTAMP:20260425T005310
CREATED:20250519T032414Z
LAST-MODIFIED:20250715T034256Z
UID:10000335-1767265200-1767268800@walkerwayland.com
SUMMARY:Team Liaison Collaboration Group Meeting
DESCRIPTION:Join us for our Monthly Team Liaison Innovation Collaboration Group Meeting\, where professionals gather to enhance WWA team coordination and drive connection through effective collaboration. 
URL:https://walkerwayland.com/event/team-liaison-collaboration-group-meeting-5/2026-01-01/
LOCATION:Virtual Session
CATEGORIES:Team Liaison
ATTACH;FMTTYPE=image/png:https://walkerwayland.com/wp-content/uploads/2024/07/WW_Team-Liason.png
END:VEVENT
BEGIN:VEVENT
DTSTART;TZID=Australia/Sydney:20251222T100000
DTEND;TZID=Australia/Sydney:20251222T110000
DTSTAMP:20260425T005310
CREATED:20250715T033035Z
LAST-MODIFIED:20250715T033312Z
UID:10000156-1766397600-1766401200@walkerwayland.com
SUMMARY:Multi-Generational Advice Group Meeting
DESCRIPTION:Join us for our Monthly Multi-Generational Advice Group Meeting\, where professionals gather to explore strategies and share insights on managing wealth across generations.  \n 
URL:https://walkerwayland.com/event/multi-generational-advice-group-meeting-8/2025-12-22/
LOCATION:Virtual Session
CATEGORIES:Multi-Generational Advice
ATTACH;FMTTYPE=image/png:https://walkerwayland.com/wp-content/uploads/2024/07/WW_Multi-Gen.png
END:VEVENT
BEGIN:VEVENT
DTSTART;TZID=Australia/Sydney:20251218T130000
DTEND;TZID=Australia/Sydney:20251218T140000
DTSTAMP:20260425T005310
CREATED:20250519T033217Z
LAST-MODIFIED:20250715T033446Z
UID:10000215-1766062800-1766066400@walkerwayland.com
SUMMARY:Digital Innovation Collaboration Group Meeting
DESCRIPTION:Join us for our Monthly Digital Innovation Collaboration Group Meeting\, where forward-thinking professionals come together to discuss the latest advancements and trends in digital innovation. 
URL:https://walkerwayland.com/event/digital-innovation-collaboration-group-meeting-7/2025-12-18/
LOCATION:Virtual Session
CATEGORIES:Digital Innovation
ATTACH;FMTTYPE=image/png:https://walkerwayland.com/wp-content/uploads/2024/07/WW_Digital.png
END:VEVENT
BEGIN:VEVENT
DTSTART;TZID=Australia/Sydney:20251217T110000
DTEND;TZID=Australia/Sydney:20251217T113000
DTSTAMP:20260425T005310
CREATED:20250519T033019Z
LAST-MODIFIED:20250715T033228Z
UID:10000099-1765969200-1765971000@walkerwayland.com
SUMMARY:Super and SMSF Collaboration Group Meeting
DESCRIPTION:Join the WWA Super and SMSF Leaders for our Monthly Super & SMSF Innovation Collaboration Group Meeting\, where professionals unite to discuss the latest developments and strategies in superannuation and self-managed super funds (SMSFs). 
URL:https://walkerwayland.com/event/super-and-smsf-collaboration-group-meeting-7/2025-12-17/
LOCATION:Virtual Session
CATEGORIES:Super and SMSF
ATTACH;FMTTYPE=image/png:https://walkerwayland.com/wp-content/uploads/2024/07/WW_Super.png
END:VEVENT
BEGIN:VEVENT
DTSTART;TZID=Australia/Sydney:20251210T130000
DTEND;TZID=Australia/Sydney:20251210T140000
DTSTAMP:20260425T005310
CREATED:20250715T034840Z
LAST-MODIFIED:20250715T034840Z
UID:10000393-1765371600-1765375200@walkerwayland.com
SUMMARY:Practice Managers Collaboration Group Meeting
DESCRIPTION:Join us for our Six-Weekly Practice Managers Collaboration Group Meeting\, where our WWA practice managers come together to share innovative ideas\, strategies\, and best practices.
URL:https://walkerwayland.com/event/practice-managers-collaboration-group-meeting-8/
LOCATION:Virtual Session
CATEGORIES:Practice Managers
ATTACH;FMTTYPE=image/png:https://walkerwayland.com/wp-content/uploads/2024/07/WW_PM.png
END:VEVENT
BEGIN:VEVENT
DTSTART;TZID=Australia/Sydney:20251204T110000
DTEND;TZID=Australia/Sydney:20251204T120000
DTSTAMP:20260425T005310
CREATED:20250519T032414Z
LAST-MODIFIED:20250715T034256Z
UID:10000334-1764846000-1764849600@walkerwayland.com
SUMMARY:Team Liaison Collaboration Group Meeting
DESCRIPTION:Join us for our Monthly Team Liaison Innovation Collaboration Group Meeting\, where professionals gather to enhance WWA team coordination and drive connection through effective collaboration. 
URL:https://walkerwayland.com/event/team-liaison-collaboration-group-meeting-5/2025-12-04/
LOCATION:Virtual Session
CATEGORIES:Team Liaison
ATTACH;FMTTYPE=image/png:https://walkerwayland.com/wp-content/uploads/2024/07/WW_Team-Liason.png
END:VEVENT
BEGIN:VEVENT
DTSTART;TZID=Australia/Sydney:20251201T110000
DTEND;TZID=Australia/Sydney:20251201T120000
DTSTAMP:20260425T005310
CREATED:20250519T032732Z
LAST-MODIFIED:20250715T033528Z
UID:10000274-1764586800-1764590400@walkerwayland.com
SUMMARY:Audit Collaboration Group Meeting
DESCRIPTION:Join the WWA Audit Leaders for our Monthly Audit Group Meeting\, where industry professionals come together to share insights\, discuss the latest trends\, and collaborate on best practices in auditing. 
URL:https://walkerwayland.com/event/audit-collaboration-group-meeting-4/2025-12-01/
LOCATION:Virtual Session
CATEGORIES:Audit
ATTACH;FMTTYPE=image/png:https://walkerwayland.com/wp-content/uploads/2024/07/WW_Audit.png
END:VEVENT
BEGIN:VEVENT
DTSTART;TZID=Australia/Sydney:20251124T100000
DTEND;TZID=Australia/Sydney:20251124T110000
DTSTAMP:20260425T005310
CREATED:20250715T033035Z
LAST-MODIFIED:20250715T033312Z
UID:10000155-1763978400-1763982000@walkerwayland.com
SUMMARY:Multi-Generational Advice Group Meeting
DESCRIPTION:Join us for our Monthly Multi-Generational Advice Group Meeting\, where professionals gather to explore strategies and share insights on managing wealth across generations.  \n 
URL:https://walkerwayland.com/event/multi-generational-advice-group-meeting-8/2025-11-24/
LOCATION:Virtual Session
CATEGORIES:Multi-Generational Advice
ATTACH;FMTTYPE=image/png:https://walkerwayland.com/wp-content/uploads/2024/07/WW_Multi-Gen.png
END:VEVENT
BEGIN:VEVENT
DTSTART;TZID=Australia/Sydney:20251120T130000
DTEND;TZID=Australia/Sydney:20251120T140000
DTSTAMP:20260425T005310
CREATED:20250519T033217Z
LAST-MODIFIED:20250715T033446Z
UID:10000214-1763643600-1763647200@walkerwayland.com
SUMMARY:Digital Innovation Collaboration Group Meeting
DESCRIPTION:Join us for our Monthly Digital Innovation Collaboration Group Meeting\, where forward-thinking professionals come together to discuss the latest advancements and trends in digital innovation. 
URL:https://walkerwayland.com/event/digital-innovation-collaboration-group-meeting-7/2025-11-20/
LOCATION:Virtual Session
CATEGORIES:Digital Innovation
ATTACH;FMTTYPE=image/png:https://walkerwayland.com/wp-content/uploads/2024/07/WW_Digital.png
END:VEVENT
BEGIN:VEVENT
DTSTART;TZID=Australia/Sydney:20251119T110000
DTEND;TZID=Australia/Sydney:20251119T113000
DTSTAMP:20260425T005310
CREATED:20250519T033019Z
LAST-MODIFIED:20250715T033228Z
UID:10000098-1763550000-1763551800@walkerwayland.com
SUMMARY:Super and SMSF Collaboration Group Meeting
DESCRIPTION:Join the WWA Super and SMSF Leaders for our Monthly Super & SMSF Innovation Collaboration Group Meeting\, where professionals unite to discuss the latest developments and strategies in superannuation and self-managed super funds (SMSFs). 
URL:https://walkerwayland.com/event/super-and-smsf-collaboration-group-meeting-7/2025-11-19/
LOCATION:Virtual Session
CATEGORIES:Super and SMSF
ATTACH;FMTTYPE=image/png:https://walkerwayland.com/wp-content/uploads/2024/07/WW_Super.png
END:VEVENT
BEGIN:VEVENT
DTSTART;TZID=Australia/Sydney:20251114T090000
DTEND;TZID=Australia/Sydney:20251114T153000
DTSTAMP:20260425T005310
CREATED:20250715T035144Z
LAST-MODIFIED:20250715T035144Z
UID:10000394-1763110800-1763134200@walkerwayland.com
SUMMARY:WWA Collaboration Think Tank
DESCRIPTION:Join the Partners and the senior members of our firms to share knowledge and discuss ideas. 
URL:https://walkerwayland.com/event/wwa-collaboration-think-tank-3/
LOCATION:Swissotel\, Sydney\, 68 Market St\, Sydney NSW 2000\, Sydney\, NSW\, 2000\, Australia
CATEGORIES:WWA Collaboration Think Tank
ATTACH;FMTTYPE=image/png:https://walkerwayland.com/wp-content/uploads/2025/03/Sydney-web-480-x-320-px.png
END:VEVENT
BEGIN:VEVENT
DTSTART;TZID=Australia/Sydney:20251106T110000
DTEND;TZID=Australia/Sydney:20251106T120000
DTSTAMP:20260425T005310
CREATED:20250519T032414Z
LAST-MODIFIED:20250715T034256Z
UID:10000333-1762426800-1762430400@walkerwayland.com
SUMMARY:Team Liaison Collaboration Group Meeting
DESCRIPTION:Join us for our Monthly Team Liaison Innovation Collaboration Group Meeting\, where professionals gather to enhance WWA team coordination and drive connection through effective collaboration. 
URL:https://walkerwayland.com/event/team-liaison-collaboration-group-meeting-5/2025-11-06/
LOCATION:Virtual Session
CATEGORIES:Team Liaison
ATTACH;FMTTYPE=image/png:https://walkerwayland.com/wp-content/uploads/2024/07/WW_Team-Liason.png
END:VEVENT
BEGIN:VEVENT
DTSTART;TZID=Australia/Sydney:20251103T110000
DTEND;TZID=Australia/Sydney:20251103T120000
DTSTAMP:20260425T005310
CREATED:20250519T032732Z
LAST-MODIFIED:20250715T033528Z
UID:10000273-1762167600-1762171200@walkerwayland.com
SUMMARY:Audit Collaboration Group Meeting
DESCRIPTION:Join the WWA Audit Leaders for our Monthly Audit Group Meeting\, where industry professionals come together to share insights\, discuss the latest trends\, and collaborate on best practices in auditing. 
URL:https://walkerwayland.com/event/audit-collaboration-group-meeting-4/2025-11-03/
LOCATION:Virtual Session
CATEGORIES:Audit
ATTACH;FMTTYPE=image/png:https://walkerwayland.com/wp-content/uploads/2024/07/WW_Audit.png
END:VEVENT
END:VCALENDAR