BEGIN:VCALENDAR
VERSION:2.0
PRODID:-//Walker Wayland Australasia - ECPv6.15.20//NONSGML v1.0//EN
CALSCALE:GREGORIAN
METHOD:PUBLISH
X-ORIGINAL-URL:https://walkerwayland.com
X-WR-CALDESC:Events for Walker Wayland Australasia
REFRESH-INTERVAL;VALUE=DURATION:PT1H
X-Robots-Tag:noindex
X-PUBLISHED-TTL:PT1H
BEGIN:VTIMEZONE
TZID:Australia/Sydney
BEGIN:STANDARD
TZOFFSETFROM:+1100
TZOFFSETTO:+1000
TZNAME:AEST
DTSTART:20240406T160000
END:STANDARD
BEGIN:DAYLIGHT
TZOFFSETFROM:+1000
TZOFFSETTO:+1100
TZNAME:AEDT
DTSTART:20241005T160000
END:DAYLIGHT
BEGIN:STANDARD
TZOFFSETFROM:+1100
TZOFFSETTO:+1000
TZNAME:AEST
DTSTART:20250405T160000
END:STANDARD
BEGIN:DAYLIGHT
TZOFFSETFROM:+1000
TZOFFSETTO:+1100
TZNAME:AEDT
DTSTART:20251004T160000
END:DAYLIGHT
BEGIN:STANDARD
TZOFFSETFROM:+1100
TZOFFSETTO:+1000
TZNAME:AEST
DTSTART:20260404T160000
END:STANDARD
BEGIN:DAYLIGHT
TZOFFSETFROM:+1000
TZOFFSETTO:+1100
TZNAME:AEDT
DTSTART:20261003T160000
END:DAYLIGHT
END:VTIMEZONE
BEGIN:VEVENT
DTSTART;TZID=Australia/Sydney:20251222T100000
DTEND;TZID=Australia/Sydney:20251222T110000
DTSTAMP:20260425T115624
CREATED:20250715T033035Z
LAST-MODIFIED:20250715T033312Z
UID:10000156-1766397600-1766401200@walkerwayland.com
SUMMARY:Multi-Generational Advice Group Meeting
DESCRIPTION:Join us for our Monthly Multi-Generational Advice Group Meeting\, where professionals gather to explore strategies and share insights on managing wealth across generations.  \n 
URL:https://walkerwayland.com/event/multi-generational-advice-group-meeting-8/2025-12-22/
LOCATION:Virtual Session
CATEGORIES:Multi-Generational Advice
ATTACH;FMTTYPE=image/png:https://walkerwayland.com/wp-content/uploads/2024/07/WW_Multi-Gen.png
END:VEVENT
END:VCALENDAR